Workbook

Sheet Calendario anual
B2: CALENDARIO
B3: Año: | C3: 2027 | F3: ← Cambia el año en la celda amarilla y todo se actualiza solo.
B5: ENERO | J5: FEBRERO | R5: MARZO
B6: L | C6: M | D6: M | E6: J | F6: V | G6: S | H6: D | J6: L | K6: M | L6: M | M6: J | N6: V | O6: S | P6: D | R6: L | S6: M | T6: M | U6: J | V6: V | W6: S | X6: D
B7: =IF(MONTH((DATE($C$3,1,1)-WEEKDAY(DATE($C$3,1,1),3)+0))=1,DAY((DATE($C$3,1,1)-WEEKDAY(DATE($C$3,1,1),3)+0)),"") | C7: =IF(MONTH((DATE($C$3,1,1)-WEEKDAY(DATE($C$3,1,1),3)+1))=1,DAY((DATE($C$3,1,1)-WEEKDAY(DATE($C$3,1,1),3)+1)),"") | D7: =IF(MONTH((DATE($C$3,1,1)-WEEKDAY(DATE($C$3,1,1),3)+2))=1,DAY((DATE($C$3,1,1)-WEEKDAY(DATE($C$3,1,1),3)+2)),"") | E7: =IF(MONTH((DATE($C$3,1,1)-WEEKDAY(DATE($C$3,1,1),3)+3))=1,DAY((DATE($C$3,1,1)-WEEKDAY(DATE($C$3,1,1),3)+3)),"") | F7: =IF(MONTH((DATE($C$3,1,1)-WEEKDAY(DATE($C$3,1,1),3)+4))=1,DAY((DATE($C$3,1,1)-WEEKDAY(DATE($C$3,1,1),3)+4)),"") -> 1 | G7: =IF(MONTH((DATE($C$3,1,1)-WEEKDAY(DATE($C$3,1,1),3)+5))=1,DAY((DATE($C$3,1,1)-WEEKDAY(DATE($C$3,1,1),3)+5)),"") -> 2 | H7: =IF(MONTH((DATE($C$3,1,1)-WEEKDAY(DATE($C$3,1,1),3)+6))=1,DAY((DATE($C$3,1,1)-WEEKDAY(DATE($C$3,1,1),3)+6)),"") -> 3 | J7: =IF(MONTH((DATE($C$3,2,1)-WEEKDAY(DATE($C$3,2,1),3)+0))=2,DAY((DATE($C$3,2,1)-WEEKDAY(DATE($C$3,2,1),3)+0)),"") -> 1 | K7: =IF(MONTH((DATE($C$3,2,1)-WEEKDAY(DATE($C$3,2,1),3)+1))=2,DAY((DATE($C$3,2,1)-WEEKDAY(DATE($C$3,2,1),3)+1)),"") -> 2 | L7: =IF(MONTH((DATE($C$3,2,1)-WEEKDAY(DATE($C$3,2,1),3)+2))=2,DAY((DATE($C$3,2,1)-WEEKDAY(DATE($C$3,2,1),3)+2)),"") -> 3 | M7: =IF(MONTH((DATE($C$3,2,1)-WEEKDAY(DATE($C$3,2,1),3)+3))=2,DAY((DATE($C$3,2,1)-WEEKDAY(DATE($C$3,2,1),3)+3)),"") -> 4 | N7: =IF(MONTH((DATE($C$3,2,1)-WEEKDAY(DATE($C$3,2,1),3)+4))=2,DAY((DATE($C$3,2,1)-WEEKDAY(DATE($C$3,2,1),3)+4)),"") -> 5 | O7: =IF(MONTH((DATE($C$3,2,1)-WEEKDAY(DATE($C$3,2,1),3)+5))=2,DAY((DATE($C$3,2,1)-WEEKDAY(DATE($C$3,2,1),3)+5)),"") -> 6 | P7: =IF(MONTH((DATE($C$3,2,1)-WEEKDAY(DATE($C$3,2,1),3)+6))=2,DAY((DATE($C$3,2,1)-WEEKDAY(DATE($C$3,2,1),3)+6)),"") -> 7 | R7: =IF(MONTH((DATE($C$3,3,1)-WEEKDAY(DATE($C$3,3,1),3)+0))=3,DAY((DATE($C$3,3,1)-WEEKDAY(DATE($C$3,3,1),3)+0)),"") -> 1 | S7: =IF(MONTH((DATE($C$3,3,1)-WEEKDAY(DATE($C$3,3,1),3)+1))=3,DAY((DATE($C$3,3,1)-WEEKDAY(DATE($C$3,3,1),3)+1)),"") -> 2 | T7: =IF(MONTH((DATE($C$3,3,1)-WEEKDAY(DATE($C$3,3,1),3)+2))=3,DAY((DATE($C$3,3,1)-WEEKDAY(DATE($C$3,3,1),3)+2)),"") -> 3 | U7: =IF(MONTH((DATE($C$3,3,1)-WEEKDAY(DATE($C$3,3,1),3)+3))=3,DAY((DATE($C$3,3,1)-WEEKDAY(DATE($C$3,3,1),3)+3)),"") -> 4 | V7: =IF(MONTH((DATE($C$3,3,1)-WEEKDAY(DATE($C$3,3,1),3)+4))=3,DAY((DATE($C$3,3,1)-WEEKDAY(DATE($C$3,3,1),3)+4)),"") -> 5 | W7: =IF(MONTH((DATE($C$3,3,1)-WEEKDAY(DATE($C$3,3,1),3)+5))=3,DAY((DATE($C$3,3,1)-WEEKDAY(DATE($C$3,3,1),3)+5)),"") -> 6 | X7: =IF(MONTH((DATE($C$3,3,1)-WEEKDAY(DATE($C$3,3,1),3)+6))=3,DAY((DATE($C$3,3,1)-WEEKDAY(DATE($C$3,3,1),3)+6)),"") -> 7
B8: =IF(MONTH((DATE($C$3,1,1)-WEEKDAY(DATE($C$3,1,1),3)+7))=1,DAY((DATE($C$3,1,1)-WEEKDAY(DATE($C$3,1,1),3)+7)),"") -> 4 | C8: =IF(MONTH((DATE($C$3,1,1)-WEEKDAY(DATE($C$3,1,1),3)+8))=1,DAY((DATE($C$3,1,1)-WEEKDAY(DATE($C$3,1,1),3)+8)),"") -> 5 | D8: =IF(MONTH((DATE($C$3,1,1)-WEEKDAY(DATE($C$3,1,1),3)+9))=1,DAY((DATE($C$3,1,1)-WEEKDAY(DATE($C$3,1,1),3)+9)),"") -> 6 | E8: =IF(MONTH((DATE($C$3,1,1)-WEEKDAY(DATE($C$3,1,1),3)+10))=1,DAY((DATE($C$3,1,1)-WEEKDAY(DATE($C$3,1,1),3)+10)),"") -> 7 | F8: =IF(MONTH((DATE($C$3,1,1)-WEEKDAY(DATE($C$3,1,1),3)+11))=1,DAY((DATE($C$3,1,1)-WEEKDAY(DATE($C$3,1,1),3)+11)),"") -> 8 | G8: =IF(MONTH((DATE($C$3,1,1)-WEEKDAY(DATE($C$3,1,1),3)+12))=1,DAY((DATE($C$3,1,1)-WEEKDAY(DATE($C$3,1,1),3)+12)),"") -> 9 | H8: =IF(MONTH((DATE($C$3,1,1)-WEEKDAY(DATE($C$3,1,1),3)+13))=1,DAY((DATE($C$3,1,1)-WEEKDAY(DATE($C$3,1,1),3)+13)),"") -> 10 | J8: =IF(MONTH((DATE($C$3,2,1)-WEEKDAY(DATE($C$3,2,1),3)+7))=2,DAY((DATE($C$3,2,1)-WEEKDAY(DATE($C$3,2,1),3)+7)),"") -> 8 | K8: =IF(MONTH((DATE($C$3,2,1)-WEEKDAY(DATE($C$3,2,1),3)+8))=2,DAY((DATE($C$3,2,1)-WEEKDAY(DATE($C$3,2,1),3)+8)),"") -> 9 | L8: =IF(MONTH((DATE($C$3,2,1)-WEEKDAY(DATE($C$3,2,1),3)+9))=2,DAY((DATE($C$3,2,1)-WEEKDAY(DATE($C$3,2,1),3)+9)),"") -> 10 | M8: =IF(MONTH((DATE($C$3,2,1)-WEEKDAY(DATE($C$3,2,1),3)+10))=2,DAY((DATE($C$3,2,1)-WEEKDAY(DATE($C$3,2,1),3)+10)),"") -> 11 | N8: =IF(MONTH((DATE($C$3,2,1)-WEEKDAY(DATE($C$3,2,1),3)+11))=2,DAY((DATE($C$3,2,1)-WEEKDAY(DATE($C$3,2,1),3)+11)),"") -> 12 | O8: =IF(MONTH((DATE($C$3,2,1)-WEEKDAY(DATE($C$3,2,1),3)+12))=2,DAY((DATE($C$3,2,1)-WEEKDAY(DATE($C$3,2,1),3)+12)),"") -> 13 | P8: =IF(MONTH((DATE($C$3,2,1)-WEEKDAY(DATE($C$3,2,1),3)+13))=2,DAY((DATE($C$3,2,1)-WEEKDAY(DATE($C$3,2,1),3)+13)),"") -> 14 | R8: =IF(MONTH((DATE($C$3,3,1)-WEEKDAY(DATE($C$3,3,1),3)+7))=3,DAY((DATE($C$3,3,1)-WEEKDAY(DATE($C$3,3,1),3)+7)),"") -> 8 | S8: =IF(MONTH((DATE($C$3,3,1)-WEEKDAY(DATE($C$3,3,1),3)+8))=3,DAY((DATE($C$3,3,1)-WEEKDAY(DATE($C$3,3,1),3)+8)),"") -> 9 | T8: =IF(MONTH((DATE($C$3,3,1)-WEEKDAY(DATE($C$3,3,1),3)+9))=3,DAY((DATE($C$3,3,1)-WEEKDAY(DATE($C$3,3,1),3)+9)),"") -> 10 | U8: =IF(MONTH((DATE($C$3,3,1)-WEEKDAY(DATE($C$3,3,1),3)+10))=3,DAY((DATE($C$3,3,1)-WEEKDAY(DATE($C$3,3,1),3)+10)),"") -> 11 | V8: =IF(MONTH((DATE($C$3,3,1)-WEEKDAY(DATE($C$3,3,1),3)+11))=3,DAY((DATE($C$3,3,1)-WEEKDAY(DATE($C$3,3,1),3)+11)),"") -> 12 | W8: =IF(MONTH((DATE($C$3,3,1)-WEEKDAY(DATE($C$3,3,1),3)+12))=3,DAY((DATE($C$3,3,1)-WEEKDAY(DATE($C$3,3,1),3)+12)),"") -> 13 | X8: =IF(MONTH((DATE($C$3,3,1)-WEEKDAY(DATE($C$3,3,1),3)+13))=3,DAY((DATE($C$3,3,1)-WEEKDAY(DATE($C$3,3,1),3)+13)),"") -> 14
B9: =IF(MONTH((DATE($C$3,1,1)-WEEKDAY(DATE($C$3,1,1),3)+14))=1,DAY((DATE($C$3,1,1)-WEEKDAY(DATE($C$3,1,1),3)+14)),"") -> 11 | C9: =IF(MONTH((DATE($C$3,1,1)-WEEKDAY(DATE($C$3,1,1),3)+15))=1,DAY((DATE($C$3,1,1)-WEEKDAY(DATE($C$3,1,1),3)+15)),"") -> 12 | D9: =IF(MONTH((DATE($C$3,1,1)-WEEKDAY(DATE($C$3,1,1),3)+16))=1,DAY((DATE($C$3,1,1)-WEEKDAY(DATE($C$3,1,1),3)+16)),"") -> 13 | E9: =IF(MONTH((DATE($C$3,1,1)-WEEKDAY(DATE($C$3,1,1),3)+17))=1,DAY((DATE($C$3,1,1)-WEEKDAY(DATE($C$3,1,1),3)+17)),"") -> 14 | F9: =IF(MONTH((DATE($C$3,1,1)-WEEKDAY(DATE($C$3,1,1),3)+18))=1,DAY((DATE($C$3,1,1)-WEEKDAY(DATE($C$3,1,1),3)+18)),"") -> 15 | G9: =IF(MONTH((DATE($C$3,1,1)-WEEKDAY(DATE($C$3,1,1),3)+19))=1,DAY((DATE($C$3,1,1)-WEEKDAY(DATE($C$3,1,1),3)+19)),"") -> 16 | H9: =IF(MONTH((DATE($C$3,1,1)-WEEKDAY(DATE($C$3,1,1),3)+20))=1,DAY((DATE($C$3,1,1)-WEEKDAY(DATE($C$3,1,1),3)+20)),"") -> 17 | J9: =IF(MONTH((DATE($C$3,2,1)-WEEKDAY(DATE($C$3,2,1),3)+14))=2,DAY((DATE($C$3,2,1)-WEEKDAY(DATE($C$3,2,1),3)+14)),"") -> 15 | K9: =IF(MONTH((DATE($C$3,2,1)-WEEKDAY(DATE($C$3,2,1),3)+15))=2,DAY((DATE($C$3,2,1)-WEEKDAY(DATE($C$3,2,1),3)+15)),"") -> 16 | L9: =IF(MONTH((DATE($C$3,2,1)-WEEKDAY(DATE($C$3,2,1),3)+16))=2,DAY((DATE($C$3,2,1)-WEEKDAY(DATE($C$3,2,1),3)+16)),"") -> 17 | M9: =IF(MONTH((DATE($C$3,2,1)-WEEKDAY(DATE($C$3,2,1),3)+17))=2,DAY((DATE($C$3,2,1)-WEEKDAY(DATE($C$3,2,1),3)+17)),"") -> 18 | N9: =IF(MONTH((DATE($C$3,2,1)-WEEKDAY(DATE($C$3,2,1),3)+18))=2,DAY((DATE($C$3,2,1)-WEEKDAY(DATE($C$3,2,1),3)+18)),"") -> 19 | O9: =IF(MONTH((DATE($C$3,2,1)-WEEKDAY(DATE($C$3,2,1),3)+19))=2,DAY((DATE($C$3,2,1)-WEEKDAY(DATE($C$3,2,1),3)+19)),"") -> 20 | P9: =IF(MONTH((DATE($C$3,2,1)-WEEKDAY(DATE($C$3,2,1),3)+20))=2,DAY((DATE($C$3,2,1)-WEEKDAY(DATE($C$3,2,1),3)+20)),"") -> 21 | R9: =IF(MONTH((DATE($C$3,3,1)-WEEKDAY(DATE($C$3,3,1),3)+14))=3,DAY((DATE($C$3,3,1)-WEEKDAY(DATE($C$3,3,1),3)+14)),"") -> 15 | S9: =IF(MONTH((DATE($C$3,3,1)-WEEKDAY(DATE($C$3,3,1),3)+15))=3,DAY((DATE($C$3,3,1)-WEEKDAY(DATE($C$3,3,1),3)+15)),"") -> 16 | T9: =IF(MONTH((DATE($C$3,3,1)-WEEKDAY(DATE($C$3,3,1),3)+16))=3,DAY((DATE($C$3,3,1)-WEEKDAY(DATE($C$3,3,1),3)+16)),"") -> 17 | U9: =IF(MONTH((DATE($C$3,3,1)-WEEKDAY(DATE($C$3,3,1),3)+17))=3,DAY((DATE($C$3,3,1)-WEEKDAY(DATE($C$3,3,1),3)+17)),"") -> 18 | V9: =IF(MONTH((DATE($C$3,3,1)-WEEKDAY(DATE($C$3,3,1),3)+18))=3,DAY((DATE($C$3,3,1)-WEEKDAY(DATE($C$3,3,1),3)+18)),"") -> 19 | W9: =IF(MONTH((DATE($C$3,3,1)-WEEKDAY(DATE($C$3,3,1),3)+19))=3,DAY((DATE($C$3,3,1)-WEEKDAY(DATE($C$3,3,1),3)+19)),"") -> 20 | X9: =IF(MONTH((DATE($C$3,3,1)-WEEKDAY(DATE($C$3,3,1),3)+20))=3,DAY((DATE($C$3,3,1)-WEEKDAY(DATE($C$3,3,1),3)+20)),"") -> 21
B10: =IF(MONTH((DATE($C$3,1,1)-WEEKDAY(DATE($C$3,1,1),3)+21))=1,DAY((DATE($C$3,1,1)-WEEKDAY(DATE($C$3,1,1),3)+21)),"") -> 18 | C10: =IF(MONTH((DATE($C$3,1,1)-WEEKDAY(DATE($C$3,1,1),3)+22))=1,DAY((DATE($C$3,1,1)-WEEKDAY(DATE($C$3,1,1),3)+22)),"") -> 19 | D10: =IF(MONTH((DATE($C$3,1,1)-WEEKDAY(DATE($C$3,1,1),3)+23))=1,DAY((DATE($C$3,1,1)-WEEKDAY(DATE($C$3,1,1),3)+23)),"") -> 20 | E10: =IF(MONTH((DATE($C$3,1,1)-WEEKDAY(DATE($C$3,1,1),3)+24))=1,DAY((DATE($C$3,1,1)-WEEKDAY(DATE($C$3,1,1),3)+24)),"") -> 21 | F10: =IF(MONTH((DATE($C$3,1,1)-WEEKDAY(DATE($C$3,1,1),3)+25))=1,DAY((DATE($C$3,1,1)-WEEKDAY(DATE($C$3,1,1),3)+25)),"") -> 22 | G10: =IF(MONTH((DATE($C$3,1,1)-WEEKDAY(DATE($C$3,1,1),3)+26))=1,DAY((DATE($C$3,1,1)-WEEKDAY(DATE($C$3,1,1),3)+26)),"") -> 23 | H10: =IF(MONTH((DATE($C$3,1,1)-WEEKDAY(DATE($C$3,1,1),3)+27))=1,DAY((DATE($C$3,1,1)-WEEKDAY(DATE($C$3,1,1),3)+27)),"") -> 24 | J10: =IF(MONTH((DATE($C$3,2,1)-WEEKDAY(DATE($C$3,2,1),3)+21))=2,DAY((DATE($C$3,2,1)-WEEKDAY(DATE($C$3,2,1),3)+21)),"") -> 22 | K10: =IF(MONTH((DATE($C$3,2,1)-WEEKDAY(DATE($C$3,2,1),3)+22))=2,DAY((DATE($C$3,2,1)-WEEKDAY(DATE($C$3,2,1),3)+22)),"") -> 23 | L10: =IF(MONTH((DATE($C$3,2,1)-WEEKDAY(DATE($C$3,2,1),3)+23))=2,DAY((DATE($C$3,2,1)-WEEKDAY(DATE($C$3,2,1),3)+23)),"") -> 24 | M10: =IF(MONTH((DATE($C$3,2,1)-WEEKDAY(DATE($C$3,2,1),3)+24))=2,DAY((DATE($C$3,2,1)-WEEKDAY(DATE($C$3,2,1),3)+24)),"") -> 25 | N10: =IF(MONTH((DATE($C$3,2,1)-WEEKDAY(DATE($C$3,2,1),3)+25))=2,DAY((DATE($C$3,2,1)-WEEKDAY(DATE($C$3,2,1),3)+25)),"") -> 26 | O10: =IF(MONTH((DATE($C$3,2,1)-WEEKDAY(DATE($C$3,2,1),3)+26))=2,DAY((DATE($C$3,2,1)-WEEKDAY(DATE($C$3,2,1),3)+26)),"") -> 27 | P10: =IF(MONTH((DATE($C$3,2,1)-WEEKDAY(DATE($C$3,2,1),3)+27))=2,DAY((DATE($C$3,2,1)-WEEKDAY(DATE($C$3,2,1),3)+27)),"") -> 28 | R10: =IF(MONTH((DATE($C$3,3,1)-WEEKDAY(DATE($C$3,3,1),3)+21))=3,DAY((DATE($C$3,3,1)-WEEKDAY(DATE($C$3,3,1),3)+21)),"") -> 22 | S10: =IF(MONTH((DATE($C$3,3,1)-WEEKDAY(DATE($C$3,3,1),3)+22))=3,DAY((DATE($C$3,3,1)-WEEKDAY(DATE($C$3,3,1),3)+22)),"") -> 23 | T10: =IF(MONTH((DATE($C$3,3,1)-WEEKDAY(DATE($C$3,3,1),3)+23))=3,DAY((DATE($C$3,3,1)-WEEKDAY(DATE($C$3,3,1),3)+23)),"") -> 24 | U10: =IF(MONTH((DATE($C$3,3,1)-WEEKDAY(DATE($C$3,3,1),3)+24))=3,DAY((DATE($C$3,3,1)-WEEKDAY(DATE($C$3,3,1),3)+24)),"") -> 25 | V10: =IF(MONTH((DATE($C$3,3,1)-WEEKDAY(DATE($C$3,3,1),3)+25))=3,DAY((DATE($C$3,3,1)-WEEKDAY(DATE($C$3,3,1),3)+25)),"") -> 26 | W10: =IF(MONTH((DATE($C$3,3,1)-WEEKDAY(DATE($C$3,3,1),3)+26))=3,DAY((DATE($C$3,3,1)-WEEKDAY(DATE($C$3,3,1),3)+26)),"") -> 27 | X10: =IF(MONTH((DATE($C$3,3,1)-WEEKDAY(DATE($C$3,3,1),3)+27))=3,DAY((DATE($C$3,3,1)-WEEKDAY(DATE($C$3,3,1),3)+27)),"") -> 28
B11: =IF(MONTH((DATE($C$3,1,1)-WEEKDAY(DATE($C$3,1,1),3)+28))=1,DAY((DATE($C$3,1,1)-WEEKDAY(DATE($C$3,1,1),3)+28)),"") -> 25 | C11: =IF(MONTH((DATE($C$3,1,1)-WEEKDAY(DATE($C$3,1,1),3)+29))=1,DAY((DATE($C$3,1,1)-WEEKDAY(DATE($C$3,1,1),3)+29)),"") -> 26 | D11: =IF(MONTH((DATE($C$3,1,1)-WEEKDAY(DATE($C$3,1,1),3)+30))=1,DAY((DATE($C$3,1,1)-WEEKDAY(DATE($C$3,1,1),3)+30)),"") -> 27 | E11: =IF(MONTH((DATE($C$3,1,1)-WEEKDAY(DATE($C$3,1,1),3)+31))=1,DAY((DATE($C$3,1,1)-WEEKDAY(DATE($C$3,1,1),3)+31)),"") -> 28 | F11: =IF(MONTH((DATE($C$3,1,1)-WEEKDAY(DATE($C$3,1,1),3)+32))=1,DAY((DATE($C$3,1,1)-WEEKDAY(DATE($C$3,1,1),3)+32)),"") -> 29 | G11: =IF(MONTH((DATE($C$3,1,1)-WEEKDAY(DATE($C$3,1,1),3)+33))=1,DAY((DATE($C$3,1,1)-WEEKDAY(DATE($C$3,1,1),3)+33)),"") -> 30 | H11: =IF(MONTH((DATE($C$3,1,1)-WEEKDAY(DATE($C$3,1,1),3)+34))=1,DAY((DATE($C$3,1,1)-WEEKDAY(DATE($C$3,1,1),3)+34)),"") -> 31 | J11: =IF(MONTH((DATE($C$3,2,1)-WEEKDAY(DATE($C$3,2,1),3)+28))=2,DAY((DATE($C$3,2,1)-WEEKDAY(DATE($C$3,2,1),3)+28)),"") | K11: =IF(MONTH((DATE($C$3,2,1)-WEEKDAY(DATE($C$3,2,1),3)+29))=2,DAY((DATE($C$3,2,1)-WEEKDAY(DATE($C$3,2,1),3)+29)),"") | L11: =IF(MONTH((DATE($C$3,2,1)-WEEKDAY(DATE($C$3,2,1),3)+30))=2,DAY((DATE($C$3,2,1)-WEEKDAY(DATE($C$3,2,1),3)+30)),"") | M11: =IF(MONTH((DATE($C$3,2,1)-WEEKDAY(DATE($C$3,2,1),3)+31))=2,DAY((DATE($C$3,2,1)-WEEKDAY(DATE($C$3,2,1),3)+31)),"") | N11: =IF(MONTH((DATE($C$3,2,1)-WEEKDAY(DATE($C$3,2,1),3)+32))=2,DAY((DATE($C$3,2,1)-WEEKDAY(DATE($C$3,2,1),3)+32)),"") | O11: =IF(MONTH((DATE($C$3,2,1)-WEEKDAY(DATE($C$3,2,1),3)+33))=2,DAY((DATE($C$3,2,1)-WEEKDAY(DATE($C$3,2,1),3)+33)),"") | P11: =IF(MONTH((DATE($C$3,2,1)-WEEKDAY(DATE($C$3,2,1),3)+34))=2,DAY((DATE($C$3,2,1)-WEEKDAY(DATE($C$3,2,1),3)+34)),"") | R11: =IF(MONTH((DATE($C$3,3,1)-WEEKDAY(DATE($C$3,3,1),3)+28))=3,DAY((DATE($C$3,3,1)-WEEKDAY(DATE($C$3,3,1),3)+28)),"") -> 29 | S11: =IF(MONTH((DATE($C$3,3,1)-WEEKDAY(DATE($C$3,3,1),3)+29))=3,DAY((DATE($C$3,3,1)-WEEKDAY(DATE($C$3,3,1),3)+29)),"") -> 30 | T11: =IF(MONTH((DATE($C$3,3,1)-WEEKDAY(DATE($C$3,3,1),3)+30))=3,DAY((DATE($C$3,3,1)-WEEKDAY(DATE($C$3,3,1),3)+30)),"") -> 31 | U11: =IF(MONTH((DATE($C$3,3,1)-WEEKDAY(DATE($C$3,3,1),3)+31))=3,DAY((DATE($C$3,3,1)-WEEKDAY(DATE($C$3,3,1),3)+31)),"") | V11: =IF(MONTH((DATE($C$3,3,1)-WEEKDAY(DATE($C$3,3,1),3)+32))=3,DAY((DATE($C$3,3,1)-WEEKDAY(DATE($C$3,3,1),3)+32)),"") | W11: =IF(MONTH((DATE($C$3,3,1)-WEEKDAY(DATE($C$3,3,1),3)+33))=3,DAY((DATE($C$3,3,1)-WEEKDAY(DATE($C$3,3,1),3)+33)),"") | X11: =IF(MONTH((DATE($C$3,3,1)-WEEKDAY(DATE($C$3,3,1),3)+34))=3,DAY((DATE($C$3,3,1)-WEEKDAY(DATE($C$3,3,1),3)+34)),"")
B12: =IF(MONTH((DATE($C$3,1,1)-WEEKDAY(DATE($C$3,1,1),3)+35))=1,DAY((DATE($C$3,1,1)-WEEKDAY(DATE($C$3,1,1),3)+35)),"") | C12: =IF(MONTH((DATE($C$3,1,1)-WEEKDAY(DATE($C$3,1,1),3)+36))=1,DAY((DATE($C$3,1,1)-WEEKDAY(DATE($C$3,1,1),3)+36)),"") | D12: =IF(MONTH((DATE($C$3,1,1)-WEEKDAY(DATE($C$3,1,1),3)+37))=1,DAY((DATE($C$3,1,1)-WEEKDAY(DATE($C$3,1,1),3)+37)),"") | E12: =IF(MONTH((DATE($C$3,1,1)-WEEKDAY(DATE($C$3,1,1),3)+38))=1,DAY((DATE($C$3,1,1)-WEEKDAY(DATE($C$3,1,1),3)+38)),"") | F12: =IF(MONTH((DATE($C$3,1,1)-WEEKDAY(DATE($C$3,1,1),3)+39))=1,DAY((DATE($C$3,1,1)-WEEKDAY(DATE($C$3,1,1),3)+39)),"") | G12: =IF(MONTH((DATE($C$3,1,1)-WEEKDAY(DATE($C$3,1,1),3)+40))=1,DAY((DATE($C$3,1,1)-WEEKDAY(DATE($C$3,1,1),3)+40)),"") | H12: =IF(MONTH((DATE($C$3,1,1)-WEEKDAY(DATE($C$3,1,1),3)+41))=1,DAY((DATE($C$3,1,1)-WEEKDAY(DATE($C$3,1,1),3)+41)),"") | J12: =IF(MONTH((DATE($C$3,2,1)-WEEKDAY(DATE($C$3,2,1),3)+35))=2,DAY((DATE($C$3,2,1)-WEEKDAY(DATE($C$3,2,1),3)+35)),"") | K12: =IF(MONTH((DATE($C$3,2,1)-WEEKDAY(DATE($C$3,2,1),3)+36))=2,DAY((DATE($C$3,2,1)-WEEKDAY(DATE($C$3,2,1),3)+36)),"") | L12: =IF(MONTH((DATE($C$3,2,1)-WEEKDAY(DATE($C$3,2,1),3)+37))=2,DAY((DATE($C$3,2,1)-WEEKDAY(DATE($C$3,2,1),3)+37)),"") | M12: =IF(MONTH((DATE($C$3,2,1)-WEEKDAY(DATE($C$3,2,1),3)+38))=2,DAY((DATE($C$3,2,1)-WEEKDAY(DATE($C$3,2,1),3)+38)),"") | N12: =IF(MONTH((DATE($C$3,2,1)-WEEKDAY(DATE($C$3,2,1),3)+39))=2,DAY((DATE($C$3,2,1)-WEEKDAY(DATE($C$3,2,1),3)+39)),"") | O12: =IF(MONTH((DATE($C$3,2,1)-WEEKDAY(DATE($C$3,2,1),3)+40))=2,DAY((DATE($C$3,2,1)-WEEKDAY(DATE($C$3,2,1),3)+40)),"") | P12: =IF(MONTH((DATE($C$3,2,1)-WEEKDAY(DATE($C$3,2,1),3)+41))=2,DAY((DATE($C$3,2,1)-WEEKDAY(DATE($C$3,2,1),3)+41)),"") | R12: =IF(MONTH((DATE($C$3,3,1)-WEEKDAY(DATE($C$3,3,1),3)+35))=3,DAY((DATE($C$3,3,1)-WEEKDAY(DATE($C$3,3,1),3)+35)),"") | S12: =IF(MONTH((DATE($C$3,3,1)-WEEKDAY(DATE($C$3,3,1),3)+36))=3,DAY((DATE($C$3,3,1)-WEEKDAY(DATE($C$3,3,1),3)+36)),"") | T12: =IF(MONTH((DATE($C$3,3,1)-WEEKDAY(DATE($C$3,3,1),3)+37))=3,DAY((DATE($C$3,3,1)-WEEKDAY(DATE($C$3,3,1),3)+37)),"") | U12: =IF(MONTH((DATE($C$3,3,1)-WEEKDAY(DATE($C$3,3,1),3)+38))=3,DAY((DATE($C$3,3,1)-WEEKDAY(DATE($C$3,3,1),3)+38)),"") | V12: =IF(MONTH((DATE($C$3,3,1)-WEEKDAY(DATE($C$3,3,1),3)+39))=3,DAY((DATE($C$3,3,1)-WEEKDAY(DATE($C$3,3,1),3)+39)),"") | W12: =IF(MONTH((DATE($C$3,3,1)-WEEKDAY(DATE($C$3,3,1),3)+40))=3,DAY((DATE($C$3,3,1)-WEEKDAY(DATE($C$3,3,1),3)+40)),"") | X12: =IF(MONTH((DATE($C$3,3,1)-WEEKDAY(DATE($C$3,3,1),3)+41))=3,DAY((DATE($C$3,3,1)-WEEKDAY(DATE($C$3,3,1),3)+41)),"")
B14: ABRIL | J14: MAYO | R14: JUNIO
B15: L | C15: M | D15: M | E15: J | F15: V | G15: S | H15: D | J15: L | K15: M | L15: M | M15: J | N15: V | O15: S | P15: D | R15: L | S15: M | T15: M | U15: J | V15: V | W15: S | X15: D
B16: =IF(MONTH((DATE($C$3,4,1)-WEEKDAY(DATE($C$3,4,1),3)+0))=4,DAY((DATE($C$3,4,1)-WEEKDAY(DATE($C$3,4,1),3)+0)),"") | C16: =IF(MONTH((DATE($C$3,4,1)-WEEKDAY(DATE($C$3,4,1),3)+1))=4,DAY((DATE($C$3,4,1)-WEEKDAY(DATE($C$3,4,1),3)+1)),"") | D16: =IF(MONTH((DATE($C$3,4,1)-WEEKDAY(DATE($C$3,4,1),3)+2))=4,DAY((DATE($C$3,4,1)-WEEKDAY(DATE($C$3,4,1),3)+2)),"") | E16: =IF(MONTH((DATE($C$3,4,1)-WEEKDAY(DATE($C$3,4,1),3)+3))=4,DAY((DATE($C$3,4,1)-WEEKDAY(DATE($C$3,4,1),3)+3)),"") -> 1 | F16: =IF(MONTH((DATE($C$3,4,1)-WEEKDAY(DATE($C$3,4,1),3)+4))=4,DAY((DATE($C$3,4,1)-WEEKDAY(DATE($C$3,4,1),3)+4)),"") -> 2 | G16: =IF(MONTH((DATE($C$3,4,1)-WEEKDAY(DATE($C$3,4,1),3)+5))=4,DAY((DATE($C$3,4,1)-WEEKDAY(DATE($C$3,4,1),3)+5)),"") -> 3 | H16: =IF(MONTH((DATE($C$3,4,1)-WEEKDAY(DATE($C$3,4,1),3)+6))=4,DAY((DATE($C$3,4,1)-WEEKDAY(DATE($C$3,4,1),3)+6)),"") -> 4 | J16: =IF(MONTH((DATE($C$3,5,1)-WEEKDAY(DATE($C$3,5,1),3)+0))=5,DAY((DATE($C$3,5,1)-WEEKDAY(DATE($C$3,5,1),3)+0)),"") | K16: =IF(MONTH((DATE($C$3,5,1)-WEEKDAY(DATE($C$3,5,1),3)+1))=5,DAY((DATE($C$3,5,1)-WEEKDAY(DATE($C$3,5,1),3)+1)),"") | L16: =IF(MONTH((DATE($C$3,5,1)-WEEKDAY(DATE($C$3,5,1),3)+2))=5,DAY((DATE($C$3,5,1)-WEEKDAY(DATE($C$3,5,1),3)+2)),"") | M16: =IF(MONTH((DATE($C$3,5,1)-WEEKDAY(DATE($C$3,5,1),3)+3))=5,DAY((DATE($C$3,5,1)-WEEKDAY(DATE($C$3,5,1),3)+3)),"") | N16: =IF(MONTH((DATE($C$3,5,1)-WEEKDAY(DATE($C$3,5,1),3)+4))=5,DAY((DATE($C$3,5,1)-WEEKDAY(DATE($C$3,5,1),3)+4)),"") | O16: =IF(MONTH((DATE($C$3,5,1)-WEEKDAY(DATE($C$3,5,1),3)+5))=5,DAY((DATE($C$3,5,1)-WEEKDAY(DATE($C$3,5,1),3)+5)),"") -> 1 | P16: =IF(MONTH((DATE($C$3,5,1)-WEEKDAY(DATE($C$3,5,1),3)+6))=5,DAY((DATE($C$3,5,1)-WEEKDAY(DATE($C$3,5,1),3)+6)),"") -> 2 | R16: =IF(MONTH((DATE($C$3,6,1)-WEEKDAY(DATE($C$3,6,1),3)+0))=6,DAY((DATE($C$3,6,1)-WEEKDAY(DATE($C$3,6,1),3)+0)),"") | S16: =IF(MONTH((DATE($C$3,6,1)-WEEKDAY(DATE($C$3,6,1),3)+1))=6,DAY((DATE($C$3,6,1)-WEEKDAY(DATE($C$3,6,1),3)+1)),"") -> 1 | T16: =IF(MONTH((DATE($C$3,6,1)-WEEKDAY(DATE($C$3,6,1),3)+2))=6,DAY((DATE($C$3,6,1)-WEEKDAY(DATE($C$3,6,1),3)+2)),"") -> 2 | U16: =IF(MONTH((DATE($C$3,6,1)-WEEKDAY(DATE($C$3,6,1),3)+3))=6,DAY((DATE($C$3,6,1)-WEEKDAY(DATE($C$3,6,1),3)+3)),"") -> 3 | V16: =IF(MONTH((DATE($C$3,6,1)-WEEKDAY(DATE($C$3,6,1),3)+4))=6,DAY((DATE($C$3,6,1)-WEEKDAY(DATE($C$3,6,1),3)+4)),"") -> 4 | W16: =IF(MONTH((DATE($C$3,6,1)-WEEKDAY(DATE($C$3,6,1),3)+5))=6,DAY((DATE($C$3,6,1)-WEEKDAY(DATE($C$3,6,1),3)+5)),"") -> 5 | X16: =IF(MONTH((DATE($C$3,6,1)-WEEKDAY(DATE($C$3,6,1),3)+6))=6,DAY((DATE($C$3,6,1)-WEEKDAY(DATE($C$3,6,1),3)+6)),"") -> 6
B17: =IF(MONTH((DATE($C$3,4,1)-WEEKDAY(DATE($C$3,4,1),3)+7))=4,DAY((DATE($C$3,4,1)-WEEKDAY(DATE($C$3,4,1),3)+7)),"") -> 5 | C17: =IF(MONTH((DATE($C$3,4,1)-WEEKDAY(DATE($C$3,4,1),3)+8))=4,DAY((DATE($C$3,4,1)-WEEKDAY(DATE($C$3,4,1),3)+8)),"") -> 6 | D17: =IF(MONTH((DATE($C$3,4,1)-WEEKDAY(DATE($C$3,4,1),3)+9))=4,DAY((DATE($C$3,4,1)-WEEKDAY(DATE($C$3,4,1),3)+9)),"") -> 7 | E17: =IF(MONTH((DATE($C$3,4,1)-WEEKDAY(DATE($C$3,4,1),3)+10))=4,DAY((DATE($C$3,4,1)-WEEKDAY(DATE($C$3,4,1),3)+10)),"") -> 8 | F17: =IF(MONTH((DATE($C$3,4,1)-WEEKDAY(DATE($C$3,4,1),3)+11))=4,DAY((DATE($C$3,4,1)-WEEKDAY(DATE($C$3,4,1),3)+11)),"") -> 9 | G17: =IF(MONTH((DATE($C$3,4,1)-WEEKDAY(DATE($C$3,4,1),3)+12))=4,DAY((DATE($C$3,4,1)-WEEKDAY(DATE($C$3,4,1),3)+12)),"") -> 10 | H17: =IF(MONTH((DATE($C$3,4,1)-WEEKDAY(DATE($C$3,4,1),3)+13))=4,DAY((DATE($C$3,4,1)-WEEKDAY(DATE($C$3,4,1),3)+13)),"") -> 11 | J17: =IF(MONTH((DATE($C$3,5,1)-WEEKDAY(DATE($C$3,5,1),3)+7))=5,DAY((DATE($C$3,5,1)-WEEKDAY(DATE($C$3,5,1),3)+7)),"") -> 3 | K17: =IF(MONTH((DATE($C$3,5,1)-WEEKDAY(DATE($C$3,5,1),3)+8))=5,DAY((DATE($C$3,5,1)-WEEKDAY(DATE($C$3,5,1),3)+8)),"") -> 4 | L17: =IF(MONTH((DATE($C$3,5,1)-WEEKDAY(DATE($C$3,5,1),3)+9))=5,DAY((DATE($C$3,5,1)-WEEKDAY(DATE($C$3,5,1),3)+9)),"") -> 5 | M17: =IF(MONTH((DATE($C$3,5,1)-WEEKDAY(DATE($C$3,5,1),3)+10))=5,DAY((DATE($C$3,5,1)-WEEKDAY(DATE($C$3,5,1),3)+10)),"") -> 6 | N17: =IF(MONTH((DATE($C$3,5,1)-WEEKDAY(DATE($C$3,5,1),3)+11))=5,DAY((DATE($C$3,5,1)-WEEKDAY(DATE($C$3,5,1),3)+11)),"") -> 7 | O17: =IF(MONTH((DATE($C$3,5,1)-WEEKDAY(DATE($C$3,5,1),3)+12))=5,DAY((DATE($C$3,5,1)-WEEKDAY(DATE($C$3,5,1),3)+12)),"") -> 8 | P17: =IF(MONTH((DATE($C$3,5,1)-WEEKDAY(DATE($C$3,5,1),3)+13))=5,DAY((DATE($C$3,5,1)-WEEKDAY(DATE($C$3,5,1),3)+13)),"") -> 9 | R17: =IF(MONTH((DATE($C$3,6,1)-WEEKDAY(DATE($C$3,6,1),3)+7))=6,DAY((DATE($C$3,6,1)-WEEKDAY(DATE($C$3,6,1),3)+7)),"") -> 7 | S17: =IF(MONTH((DATE($C$3,6,1)-WEEKDAY(DATE($C$3,6,1),3)+8))=6,DAY((DATE($C$3,6,1)-WEEKDAY(DATE($C$3,6,1),3)+8)),"") -> 8 | T17: =IF(MONTH((DATE($C$3,6,1)-WEEKDAY(DATE($C$3,6,1),3)+9))=6,DAY((DATE($C$3,6,1)-WEEKDAY(DATE($C$3,6,1),3)+9)),"") -> 9 | U17: =IF(MONTH((DATE($C$3,6,1)-WEEKDAY(DATE($C$3,6,1),3)+10))=6,DAY((DATE($C$3,6,1)-WEEKDAY(DATE($C$3,6,1),3)+10)),"") -> 10 | V17: =IF(MONTH((DATE($C$3,6,1)-WEEKDAY(DATE($C$3,6,1),3)+11))=6,DAY((DATE($C$3,6,1)-WEEKDAY(DATE($C$3,6,1),3)+11)),"") -> 11 | W17: =IF(MONTH((DATE($C$3,6,1)-WEEKDAY(DATE($C$3,6,1),3)+12))=6,DAY((DATE($C$3,6,1)-WEEKDAY(DATE($C$3,6,1),3)+12)),"") -> 12 | X17: =IF(MONTH((DATE($C$3,6,1)-WEEKDAY(DATE($C$3,6,1),3)+13))=6,DAY((DATE($C$3,6,1)-WEEKDAY(DATE($C$3,6,1),3)+13)),"") -> 13
B18: =IF(MONTH((DATE($C$3,4,1)-WEEKDAY(DATE($C$3,4,1),3)+14))=4,DAY((DATE($C$3,4,1)-WEEKDAY(DATE($C$3,4,1),3)+14)),"") -> 12 | C18: =IF(MONTH((DATE($C$3,4,1)-WEEKDAY(DATE($C$3,4,1),3)+15))=4,DAY((DATE($C$3,4,1)-WEEKDAY(DATE($C$3,4,1),3)+15)),"") -> 13 | D18: =IF(MONTH((DATE($C$3,4,1)-WEEKDAY(DATE($C$3,4,1),3)+16))=4,DAY((DATE($C$3,4,1)-WEEKDAY(DATE($C$3,4,1),3)+16)),"") -> 14 | E18: =IF(MONTH((DATE($C$3,4,1)-WEEKDAY(DATE($C$3,4,1),3)+17))=4,DAY((DATE($C$3,4,1)-WEEKDAY(DATE($C$3,4,1),3)+17)),"") -> 15 | F18: =IF(MONTH((DATE($C$3,4,1)-WEEKDAY(DATE($C$3,4,1),3)+18))=4,DAY((DATE($C$3,4,1)-WEEKDAY(DATE($C$3,4,1),3)+18)),"") -> 16 | G18: =IF(MONTH((DATE($C$3,4,1)-WEEKDAY(DATE($C$3,4,1),3)+19))=4,DAY((DATE($C$3,4,1)-WEEKDAY(DATE($C$3,4,1),3)+19)),"") -> 17 | H18: =IF(MONTH((DATE($C$3,4,1)-WEEKDAY(DATE($C$3,4,1),3)+20))=4,DAY((DATE($C$3,4,1)-WEEKDAY(DATE($C$3,4,1),3)+20)),"") -> 18 | J18: =IF(MONTH((DATE($C$3,5,1)-WEEKDAY(DATE($C$3,5,1),3)+14))=5,DAY((DATE($C$3,5,1)-WEEKDAY(DATE($C$3,5,1),3)+14)),"") -> 10 | K18: =IF(MONTH((DATE($C$3,5,1)-WEEKDAY(DATE($C$3,5,1),3)+15))=5,DAY((DATE($C$3,5,1)-WEEKDAY(DATE($C$3,5,1),3)+15)),"") -> 11 | L18: =IF(MONTH((DATE($C$3,5,1)-WEEKDAY(DATE($C$3,5,1),3)+16))=5,DAY((DATE($C$3,5,1)-WEEKDAY(DATE($C$3,5,1),3)+16)),"") -> 12 | M18: =IF(MONTH((DATE($C$3,5,1)-WEEKDAY(DATE($C$3,5,1),3)+17))=5,DAY((DATE($C$3,5,1)-WEEKDAY(DATE($C$3,5,1),3)+17)),"") -> 13 | N18: =IF(MONTH((DATE($C$3,5,1)-WEEKDAY(DATE($C$3,5,1),3)+18))=5,DAY((DATE($C$3,5,1)-WEEKDAY(DATE($C$3,5,1),3)+18)),"") -> 14 | O18: =IF(MONTH((DATE($C$3,5,1)-WEEKDAY(DATE($C$3,5,1),3)+19))=5,DAY((DATE($C$3,5,1)-WEEKDAY(DATE($C$3,5,1),3)+19)),"") -> 15 | P18: =IF(MONTH((DATE($C$3,5,1)-WEEKDAY(DATE($C$3,5,1),3)+20))=5,DAY((DATE($C$3,5,1)-WEEKDAY(DATE($C$3,5,1),3)+20)),"") -> 16 | R18: =IF(MONTH((DATE($C$3,6,1)-WEEKDAY(DATE($C$3,6,1),3)+14))=6,DAY((DATE($C$3,6,1)-WEEKDAY(DATE($C$3,6,1),3)+14)),"") -> 14 | S18: =IF(MONTH((DATE($C$3,6,1)-WEEKDAY(DATE($C$3,6,1),3)+15))=6,DAY((DATE($C$3,6,1)-WEEKDAY(DATE($C$3,6,1),3)+15)),"") -> 15 | T18: =IF(MONTH((DATE($C$3,6,1)-WEEKDAY(DATE($C$3,6,1),3)+16))=6,DAY((DATE($C$3,6,1)-WEEKDAY(DATE($C$3,6,1),3)+16)),"") -> 16 | U18: =IF(MONTH((DATE($C$3,6,1)-WEEKDAY(DATE($C$3,6,1),3)+17))=6,DAY((DATE($C$3,6,1)-WEEKDAY(DATE($C$3,6,1),3)+17)),"") -> 17 | V18: =IF(MONTH((DATE($C$3,6,1)-WEEKDAY(DATE($C$3,6,1),3)+18))=6,DAY((DATE($C$3,6,1)-WEEKDAY(DATE($C$3,6,1),3)+18)),"") -> 18 | W18: =IF(MONTH((DATE($C$3,6,1)-WEEKDAY(DATE($C$3,6,1),3)+19))=6,DAY((DATE($C$3,6,1)-WEEKDAY(DATE($C$3,6,1),3)+19)),"") -> 19 | X18: =IF(MONTH((DATE($C$3,6,1)-WEEKDAY(DATE($C$3,6,1),3)+20))=6,DAY((DATE($C$3,6,1)-WEEKDAY(DATE($C$3,6,1),3)+20)),"") -> 20
B19: =IF(MONTH((DATE($C$3,4,1)-WEEKDAY(DATE($C$3,4,1),3)+21))=4,DAY((DATE($C$3,4,1)-WEEKDAY(DATE($C$3,4,1),3)+21)),"") -> 19 | C19: =IF(MONTH((DATE($C$3,4,1)-WEEKDAY(DATE($C$3,4,1),3)+22))=4,DAY((DATE($C$3,4,1)-WEEKDAY(DATE($C$3,4,1),3)+22)),"") -> 20 | D19: =IF(MONTH((DATE($C$3,4,1)-WEEKDAY(DATE($C$3,4,1),3)+23))=4,DAY((DATE($C$3,4,1)-WEEKDAY(DATE($C$3,4,1),3)+23)),"") -> 21 | E19: =IF(MONTH((DATE($C$3,4,1)-WEEKDAY(DATE($C$3,4,1),3)+24))=4,DAY((DATE($C$3,4,1)-WEEKDAY(DATE($C$3,4,1),3)+24)),"") -> 22 | F19: =IF(MONTH((DATE($C$3,4,1)-WEEKDAY(DATE($C$3,4,1),3)+25))=4,DAY((DATE($C$3,4,1)-WEEKDAY(DATE($C$3,4,1),3)+25)),"") -> 23 | G19: =IF(MONTH((DATE($C$3,4,1)-WEEKDAY(DATE($C$3,4,1),3)+26))=4,DAY((DATE($C$3,4,1)-WEEKDAY(DATE($C$3,4,1),3)+26)),"") -> 24 | H19: =IF(MONTH((DATE($C$3,4,1)-WEEKDAY(DATE($C$3,4,1),3)+27))=4,DAY((DATE($C$3,4,1)-WEEKDAY(DATE($C$3,4,1),3)+27)),"") -> 25 | J19: =IF(MONTH((DATE($C$3,5,1)-WEEKDAY(DATE($C$3,5,1),3)+21))=5,DAY((DATE($C$3,5,1)-WEEKDAY(DATE($C$3,5,1),3)+21)),"") -> 17 | K19: =IF(MONTH((DATE($C$3,5,1)-WEEKDAY(DATE($C$3,5,1),3)+22))=5,DAY((DATE($C$3,5,1)-WEEKDAY(DATE($C$3,5,1),3)+22)),"") -> 18 | L19: =IF(MONTH((DATE($C$3,5,1)-WEEKDAY(DATE($C$3,5,1),3)+23))=5,DAY((DATE($C$3,5,1)-WEEKDAY(DATE($C$3,5,1),3)+23)),"") -> 19 | M19: =IF(MONTH((DATE($C$3,5,1)-WEEKDAY(DATE($C$3,5,1),3)+24))=5,DAY((DATE($C$3,5,1)-WEEKDAY(DATE($C$3,5,1),3)+24)),"") -> 20 | N19: =IF(MONTH((DATE($C$3,5,1)-WEEKDAY(DATE($C$3,5,1),3)+25))=5,DAY((DATE($C$3,5,1)-WEEKDAY(DATE($C$3,5,1),3)+25)),"") -> 21 | O19: =IF(MONTH((DATE($C$3,5,1)-WEEKDAY(DATE($C$3,5,1),3)+26))=5,DAY((DATE($C$3,5,1)-WEEKDAY(DATE($C$3,5,1),3)+26)),"") -> 22 | P19: =IF(MONTH((DATE($C$3,5,1)-WEEKDAY(DATE($C$3,5,1),3)+27))=5,DAY((DATE($C$3,5,1)-WEEKDAY(DATE($C$3,5,1),3)+27)),"") -> 23 | R19: =IF(MONTH((DATE($C$3,6,1)-WEEKDAY(DATE($C$3,6,1),3)+21))=6,DAY((DATE($C$3,6,1)-WEEKDAY(DATE($C$3,6,1),3)+21)),"") -> 21 | S19: =IF(MONTH((DATE($C$3,6,1)-WEEKDAY(DATE($C$3,6,1),3)+22))=6,DAY((DATE($C$3,6,1)-WEEKDAY(DATE($C$3,6,1),3)+22)),"") -> 22 | T19: =IF(MONTH((DATE($C$3,6,1)-WEEKDAY(DATE($C$3,6,1),3)+23))=6,DAY((DATE($C$3,6,1)-WEEKDAY(DATE($C$3,6,1),3)+23)),"") -> 23 | U19: =IF(MONTH((DATE($C$3,6,1)-WEEKDAY(DATE($C$3,6,1),3)+24))=6,DAY((DATE($C$3,6,1)-WEEKDAY(DATE($C$3,6,1),3)+24)),"") -> 24 | V19: =IF(MONTH((DATE($C$3,6,1)-WEEKDAY(DATE($C$3,6,1),3)+25))=6,DAY((DATE($C$3,6,1)-WEEKDAY(DATE($C$3,6,1),3)+25)),"") -> 25 | W19: =IF(MONTH((DATE($C$3,6,1)-WEEKDAY(DATE($C$3,6,1),3)+26))=6,DAY((DATE($C$3,6,1)-WEEKDAY(DATE($C$3,6,1),3)+26)),"") -> 26 | X19: =IF(MONTH((DATE($C$3,6,1)-WEEKDAY(DATE($C$3,6,1),3)+27))=6,DAY((DATE($C$3,6,1)-WEEKDAY(DATE($C$3,6,1),3)+27)),"") -> 27
B20: =IF(MONTH((DATE($C$3,4,1)-WEEKDAY(DATE($C$3,4,1),3)+28))=4,DAY((DATE($C$3,4,1)-WEEKDAY(DATE($C$3,4,1),3)+28)),"") -> 26 | C20: =IF(MONTH((DATE($C$3,4,1)-WEEKDAY(DATE($C$3,4,1),3)+29))=4,DAY((DATE($C$3,4,1)-WEEKDAY(DATE($C$3,4,1),3)+29)),"") -> 27 | D20: =IF(MONTH((DATE($C$3,4,1)-WEEKDAY(DATE($C$3,4,1),3)+30))=4,DAY((DATE($C$3,4,1)-WEEKDAY(DATE($C$3,4,1),3)+30)),"") -> 28 | E20: =IF(MONTH((DATE($C$3,4,1)-WEEKDAY(DATE($C$3,4,1),3)+31))=4,DAY((DATE($C$3,4,1)-WEEKDAY(DATE($C$3,4,1),3)+31)),"") -> 29 | F20: =IF(MONTH((DATE($C$3,4,1)-WEEKDAY(DATE($C$3,4,1),3)+32))=4,DAY((DATE($C$3,4,1)-WEEKDAY(DATE($C$3,4,1),3)+32)),"") -> 30 | G20: =IF(MONTH((DATE($C$3,4,1)-WEEKDAY(DATE($C$3,4,1),3)+33))=4,DAY((DATE($C$3,4,1)-WEEKDAY(DATE($C$3,4,1),3)+33)),"") | H20: =IF(MONTH((DATE($C$3,4,1)-WEEKDAY(DATE($C$3,4,1),3)+34))=4,DAY((DATE($C$3,4,1)-WEEKDAY(DATE($C$3,4,1),3)+34)),"") | J20: =IF(MONTH((DATE($C$3,5,1)-WEEKDAY(DATE($C$3,5,1),3)+28))=5,DAY((DATE($C$3,5,1)-WEEKDAY(DATE($C$3,5,1),3)+28)),"") -> 24 | K20: =IF(MONTH((DATE($C$3,5,1)-WEEKDAY(DATE($C$3,5,1),3)+29))=5,DAY((DATE($C$3,5,1)-WEEKDAY(DATE($C$3,5,1),3)+29)),"") -> 25 | L20: =IF(MONTH((DATE($C$3,5,1)-WEEKDAY(DATE($C$3,5,1),3)+30))=5,DAY((DATE($C$3,5,1)-WEEKDAY(DATE($C$3,5,1),3)+30)),"") -> 26 | M20: =IF(MONTH((DATE($C$3,5,1)-WEEKDAY(DATE($C$3,5,1),3)+31))=5,DAY((DATE($C$3,5,1)-WEEKDAY(DATE($C$3,5,1),3)+31)),"") -> 27 | N20: =IF(MONTH((DATE($C$3,5,1)-WEEKDAY(DATE($C$3,5,1),3)+32))=5,DAY((DATE($C$3,5,1)-WEEKDAY(DATE($C$3,5,1),3)+32)),"") -> 28 | O20: =IF(MONTH((DATE($C$3,5,1)-WEEKDAY(DATE($C$3,5,1),3)+33))=5,DAY((DATE($C$3,5,1)-WEEKDAY(DATE($C$3,5,1),3)+33)),"") -> 29 | P20: =IF(MONTH((DATE($C$3,5,1)-WEEKDAY(DATE($C$3,5,1),3)+34))=5,DAY((DATE($C$3,5,1)-WEEKDAY(DATE($C$3,5,1),3)+34)),"") -> 30 | R20: =IF(MONTH((DATE($C$3,6,1)-WEEKDAY(DATE($C$3,6,1),3)+28))=6,DAY((DATE($C$3,6,1)-WEEKDAY(DATE($C$3,6,1),3)+28)),"") -> 28 | S20: =IF(MONTH((DATE($C$3,6,1)-WEEKDAY(DATE($C$3,6,1),3)+29))=6,DAY((DATE($C$3,6,1)-WEEKDAY(DATE($C$3,6,1),3)+29)),"") -> 29 | T20: =IF(MONTH((DATE($C$3,6,1)-WEEKDAY(DATE($C$3,6,1),3)+30))=6,DAY((DATE($C$3,6,1)-WEEKDAY(DATE($C$3,6,1),3)+30)),"") -> 30 | U20: =IF(MONTH((DATE($C$3,6,1)-WEEKDAY(DATE($C$3,6,1),3)+31))=6,DAY((DATE($C$3,6,1)-WEEKDAY(DATE($C$3,6,1),3)+31)),"") | V20: =IF(MONTH((DATE($C$3,6,1)-WEEKDAY(DATE($C$3,6,1),3)+32))=6,DAY((DATE($C$3,6,1)-WEEKDAY(DATE($C$3,6,1),3)+32)),"") | W20: =IF(MONTH((DATE($C$3,6,1)-WEEKDAY(DATE($C$3,6,1),3)+33))=6,DAY((DATE($C$3,6,1)-WEEKDAY(DATE($C$3,6,1),3)+33)),"") | X20: =IF(MONTH((DATE($C$3,6,1)-WEEKDAY(DATE($C$3,6,1),3)+34))=6,DAY((DATE($C$3,6,1)-WEEKDAY(DATE($C$3,6,1),3)+34)),"")
B21: =IF(MONTH((DATE($C$3,4,1)-WEEKDAY(DATE($C$3,4,1),3)+35))=4,DAY((DATE($C$3,4,1)-WEEKDAY(DATE($C$3,4,1),3)+35)),"") | C21: =IF(MONTH((DATE($C$3,4,1)-WEEKDAY(DATE($C$3,4,1),3)+36))=4,DAY((DATE($C$3,4,1)-WEEKDAY(DATE($C$3,4,1),3)+36)),"") | D21: =IF(MONTH((DATE($C$3,4,1)-WEEKDAY(DATE($C$3,4,1),3)+37))=4,DAY((DATE($C$3,4,1)-WEEKDAY(DATE($C$3,4,1),3)+37)),"") | E21: =IF(MONTH((DATE($C$3,4,1)-WEEKDAY(DATE($C$3,4,1),3)+38))=4,DAY((DATE($C$3,4,1)-WEEKDAY(DATE($C$3,4,1),3)+38)),"") | F21: =IF(MONTH((DATE($C$3,4,1)-WEEKDAY(DATE($C$3,4,1),3)+39))=4,DAY((DATE($C$3,4,1)-WEEKDAY(DATE($C$3,4,1),3)+39)),"") | G21: =IF(MONTH((DATE($C$3,4,1)-WEEKDAY(DATE($C$3,4,1),3)+40))=4,DAY((DATE($C$3,4,1)-WEEKDAY(DATE($C$3,4,1),3)+40)),"") | H21: =IF(MONTH((DATE($C$3,4,1)-WEEKDAY(DATE($C$3,4,1),3)+41))=4,DAY((DATE($C$3,4,1)-WEEKDAY(DATE($C$3,4,1),3)+41)),"") | J21: =IF(MONTH((DATE($C$3,5,1)-WEEKDAY(DATE($C$3,5,1),3)+35))=5,DAY((DATE($C$3,5,1)-WEEKDAY(DATE($C$3,5,1),3)+35)),"") -> 31 | K21: =IF(MONTH((DATE($C$3,5,1)-WEEKDAY(DATE($C$3,5,1),3)+36))=5,DAY((DATE($C$3,5,1)-WEEKDAY(DATE($C$3,5,1),3)+36)),"") | L21: =IF(MONTH((DATE($C$3,5,1)-WEEKDAY(DATE($C$3,5,1),3)+37))=5,DAY((DATE($C$3,5,1)-WEEKDAY(DATE($C$3,5,1),3)+37)),"") | M21: =IF(MONTH((DATE($C$3,5,1)-WEEKDAY(DATE($C$3,5,1),3)+38))=5,DAY((DATE($C$3,5,1)-WEEKDAY(DATE($C$3,5,1),3)+38)),"") | N21: =IF(MONTH((DATE($C$3,5,1)-WEEKDAY(DATE($C$3,5,1),3)+39))=5,DAY((DATE($C$3,5,1)-WEEKDAY(DATE($C$3,5,1),3)+39)),"") | O21: =IF(MONTH((DATE($C$3,5,1)-WEEKDAY(DATE($C$3,5,1),3)+40))=5,DAY((DATE($C$3,5,1)-WEEKDAY(DATE($C$3,5,1),3)+40)),"") | P21: =IF(MONTH((DATE($C$3,5,1)-WEEKDAY(DATE($C$3,5,1),3)+41))=5,DAY((DATE($C$3,5,1)-WEEKDAY(DATE($C$3,5,1),3)+41)),"") | R21: =IF(MONTH((DATE($C$3,6,1)-WEEKDAY(DATE($C$3,6,1),3)+35))=6,DAY((DATE($C$3,6,1)-WEEKDAY(DATE($C$3,6,1),3)+35)),"") | S21: =IF(MONTH((DATE($C$3,6,1)-WEEKDAY(DATE($C$3,6,1),3)+36))=6,DAY((DATE($C$3,6,1)-WEEKDAY(DATE($C$3,6,1),3)+36)),"") | T21: =IF(MONTH((DATE($C$3,6,1)-WEEKDAY(DATE($C$3,6,1),3)+37))=6,DAY((DATE($C$3,6,1)-WEEKDAY(DATE($C$3,6,1),3)+37)),"") | U21: =IF(MONTH((DATE($C$3,6,1)-WEEKDAY(DATE($C$3,6,1),3)+38))=6,DAY((DATE($C$3,6,1)-WEEKDAY(DATE($C$3,6,1),3)+38)),"") | V21: =IF(MONTH((DATE($C$3,6,1)-WEEKDAY(DATE($C$3,6,1),3)+39))=6,DAY((DATE($C$3,6,1)-WEEKDAY(DATE($C$3,6,1),3)+39)),"") | W21: =IF(MONTH((DATE($C$3,6,1)-WEEKDAY(DATE($C$3,6,1),3)+40))=6,DAY((DATE($C$3,6,1)-WEEKDAY(DATE($C$3,6,1),3)+40)),"") | X21: =IF(MONTH((DATE($C$3,6,1)-WEEKDAY(DATE($C$3,6,1),3)+41))=6,DAY((DATE($C$3,6,1)-WEEKDAY(DATE($C$3,6,1),3)+41)),"")
B23: JULIO | J23: AGOSTO | R23: SEPTIEMBRE
B24: L | C24: M | D24: M | E24: J | F24: V | G24: S | H24: D | J24: L | K24: M | L24: M | M24: J | N24: V | O24: S | P24: D | R24: L | S24: M | T24: M | U24: J | V24: V | W24: S | X24: D
B25: =IF(MONTH((DATE($C$3,7,1)-WEEKDAY(DATE($C$3,7,1),3)+0))=7,DAY((DATE($C$3,7,1)-WEEKDAY(DATE($C$3,7,1),3)+0)),"") | C25: =IF(MONTH((DATE($C$3,7,1)-WEEKDAY(DATE($C$3,7,1),3)+1))=7,DAY((DATE($C$3,7,1)-WEEKDAY(DATE($C$3,7,1),3)+1)),"") | D25: =IF(MONTH((DATE($C$3,7,1)-WEEKDAY(DATE($C$3,7,1),3)+2))=7,DAY((DATE($C$3,7,1)-WEEKDAY(DATE($C$3,7,1),3)+2)),"") | E25: =IF(MONTH((DATE($C$3,7,1)-WEEKDAY(DATE($C$3,7,1),3)+3))=7,DAY((DATE($C$3,7,1)-WEEKDAY(DATE($C$3,7,1),3)+3)),"") -> 1 | F25: =IF(MONTH((DATE($C$3,7,1)-WEEKDAY(DATE($C$3,7,1),3)+4))=7,DAY((DATE($C$3,7,1)-WEEKDAY(DATE($C$3,7,1),3)+4)),"") -> 2 | G25: =IF(MONTH((DATE($C$3,7,1)-WEEKDAY(DATE($C$3,7,1),3)+5))=7,DAY((DATE($C$3,7,1)-WEEKDAY(DATE($C$3,7,1),3)+5)),"") -> 3 | H25: =IF(MONTH((DATE($C$3,7,1)-WEEKDAY(DATE($C$3,7,1),3)+6))=7,DAY((DATE($C$3,7,1)-WEEKDAY(DATE($C$3,7,1),3)+6)),"") -> 4 | J25: =IF(MONTH((DATE($C$3,8,1)-WEEKDAY(DATE($C$3,8,1),3)+0))=8,DAY((DATE($C$3,8,1)-WEEKDAY(DATE($C$3,8,1),3)+0)),"") | K25: =IF(MONTH((DATE($C$3,8,1)-WEEKDAY(DATE($C$3,8,1),3)+1))=8,DAY((DATE($C$3,8,1)-WEEKDAY(DATE($C$3,8,1),3)+1)),"") | L25: =IF(MONTH((DATE($C$3,8,1)-WEEKDAY(DATE($C$3,8,1),3)+2))=8,DAY((DATE($C$3,8,1)-WEEKDAY(DATE($C$3,8,1),3)+2)),"") | M25: =IF(MONTH((DATE($C$3,8,1)-WEEKDAY(DATE($C$3,8,1),3)+3))=8,DAY((DATE($C$3,8,1)-WEEKDAY(DATE($C$3,8,1),3)+3)),"") | N25: =IF(MONTH((DATE($C$3,8,1)-WEEKDAY(DATE($C$3,8,1),3)+4))=8,DAY((DATE($C$3,8,1)-WEEKDAY(DATE($C$3,8,1),3)+4)),"") | O25: =IF(MONTH((DATE($C$3,8,1)-WEEKDAY(DATE($C$3,8,1),3)+5))=8,DAY((DATE($C$3,8,1)-WEEKDAY(DATE($C$3,8,1),3)+5)),"") | P25: =IF(MONTH((DATE($C$3,8,1)-WEEKDAY(DATE($C$3,8,1),3)+6))=8,DAY((DATE($C$3,8,1)-WEEKDAY(DATE($C$3,8,1),3)+6)),"") -> 1 | R25: =IF(MONTH((DATE($C$3,9,1)-WEEKDAY(DATE($C$3,9,1),3)+0))=9,DAY((DATE($C$3,9,1)-WEEKDAY(DATE($C$3,9,1),3)+0)),"") | S25: =IF(MONTH((DATE($C$3,9,1)-WEEKDAY(DATE($C$3,9,1),3)+1))=9,DAY((DATE($C$3,9,1)-WEEKDAY(DATE($C$3,9,1),3)+1)),"") | T25: =IF(MONTH((DATE($C$3,9,1)-WEEKDAY(DATE($C$3,9,1),3)+2))=9,DAY((DATE($C$3,9,1)-WEEKDAY(DATE($C$3,9,1),3)+2)),"") -> 1 | U25: =IF(MONTH((DATE($C$3,9,1)-WEEKDAY(DATE($C$3,9,1),3)+3))=9,DAY((DATE($C$3,9,1)-WEEKDAY(DATE($C$3,9,1),3)+3)),"") -> 2 | V25: =IF(MONTH((DATE($C$3,9,1)-WEEKDAY(DATE($C$3,9,1),3)+4))=9,DAY((DATE($C$3,9,1)-WEEKDAY(DATE($C$3,9,1),3)+4)),"") -> 3 | W25: =IF(MONTH((DATE($C$3,9,1)-WEEKDAY(DATE($C$3,9,1),3)+5))=9,DAY((DATE($C$3,9,1)-WEEKDAY(DATE($C$3,9,1),3)+5)),"") -> 4 | X25: =IF(MONTH((DATE($C$3,9,1)-WEEKDAY(DATE($C$3,9,1),3)+6))=9,DAY((DATE($C$3,9,1)-WEEKDAY(DATE($C$3,9,1),3)+6)),"") -> 5
B26: =IF(MONTH((DATE($C$3,7,1)-WEEKDAY(DATE($C$3,7,1),3)+7))=7,DAY((DATE($C$3,7,1)-WEEKDAY(DATE($C$3,7,1),3)+7)),"") -> 5 | C26: =IF(MONTH((DATE($C$3,7,1)-WEEKDAY(DATE($C$3,7,1),3)+8))=7,DAY((DATE($C$3,7,1)-WEEKDAY(DATE($C$3,7,1),3)+8)),"") -> 6 | D26: =IF(MONTH((DATE($C$3,7,1)-WEEKDAY(DATE($C$3,7,1),3)+9))=7,DAY((DATE($C$3,7,1)-WEEKDAY(DATE($C$3,7,1),3)+9)),"") -> 7 | E26: =IF(MONTH((DATE($C$3,7,1)-WEEKDAY(DATE($C$3,7,1),3)+10))=7,DAY((DATE($C$3,7,1)-WEEKDAY(DATE($C$3,7,1),3)+10)),"") -> 8 | F26: =IF(MONTH((DATE($C$3,7,1)-WEEKDAY(DATE($C$3,7,1),3)+11))=7,DAY((DATE($C$3,7,1)-WEEKDAY(DATE($C$3,7,1),3)+11)),"") -> 9 | G26: =IF(MONTH((DATE($C$3,7,1)-WEEKDAY(DATE($C$3,7,1),3)+12))=7,DAY((DATE($C$3,7,1)-WEEKDAY(DATE($C$3,7,1),3)+12)),"") -> 10 | H26: =IF(MONTH((DATE($C$3,7,1)-WEEKDAY(DATE($C$3,7,1),3)+13))=7,DAY((DATE($C$3,7,1)-WEEKDAY(DATE($C$3,7,1),3)+13)),"") -> 11 | J26: =IF(MONTH((DATE($C$3,8,1)-WEEKDAY(DATE($C$3,8,1),3)+7))=8,DAY((DATE($C$3,8,1)-WEEKDAY(DATE($C$3,8,1),3)+7)),"") -> 2 | K26: =IF(MONTH((DATE($C$3,8,1)-WEEKDAY(DATE($C$3,8,1),3)+8))=8,DAY((DATE($C$3,8,1)-WEEKDAY(DATE($C$3,8,1),3)+8)),"") -> 3 | L26: =IF(MONTH((DATE($C$3,8,1)-WEEKDAY(DATE($C$3,8,1),3)+9))=8,DAY((DATE($C$3,8,1)-WEEKDAY(DATE($C$3,8,1),3)+9)),"") -> 4 | M26: =IF(MONTH((DATE($C$3,8,1)-WEEKDAY(DATE($C$3,8,1),3)+10))=8,DAY((DATE($C$3,8,1)-WEEKDAY(DATE($C$3,8,1),3)+10)),"") -> 5 | N26: =IF(MONTH((DATE($C$3,8,1)-WEEKDAY(DATE($C$3,8,1),3)+11))=8,DAY((DATE($C$3,8,1)-WEEKDAY(DATE($C$3,8,1),3)+11)),"") -> 6 | O26: =IF(MONTH((DATE($C$3,8,1)-WEEKDAY(DATE($C$3,8,1),3)+12))=8,DAY((DATE($C$3,8,1)-WEEKDAY(DATE($C$3,8,1),3)+12)),"") -> 7 | P26: =IF(MONTH((DATE($C$3,8,1)-WEEKDAY(DATE($C$3,8,1),3)+13))=8,DAY((DATE($C$3,8,1)-WEEKDAY(DATE($C$3,8,1),3)+13)),"") -> 8 | R26: =IF(MONTH((DATE($C$3,9,1)-WEEKDAY(DATE($C$3,9,1),3)+7))=9,DAY((DATE($C$3,9,1)-WEEKDAY(DATE($C$3,9,1),3)+7)),"") -> 6 | S26: =IF(MONTH((DATE($C$3,9,1)-WEEKDAY(DATE($C$3,9,1),3)+8))=9,DAY((DATE($C$3,9,1)-WEEKDAY(DATE($C$3,9,1),3)+8)),"") -> 7 | T26: =IF(MONTH((DATE($C$3,9,1)-WEEKDAY(DATE($C$3,9,1),3)+9))=9,DAY((DATE($C$3,9,1)-WEEKDAY(DATE($C$3,9,1),3)+9)),"") -> 8 | U26: =IF(MONTH((DATE($C$3,9,1)-WEEKDAY(DATE($C$3,9,1),3)+10))=9,DAY((DATE($C$3,9,1)-WEEKDAY(DATE($C$3,9,1),3)+10)),"") -> 9 | V26: =IF(MONTH((DATE($C$3,9,1)-WEEKDAY(DATE($C$3,9,1),3)+11))=9,DAY((DATE($C$3,9,1)-WEEKDAY(DATE($C$3,9,1),3)+11)),"") -> 10 | W26: =IF(MONTH((DATE($C$3,9,1)-WEEKDAY(DATE($C$3,9,1),3)+12))=9,DAY((DATE($C$3,9,1)-WEEKDAY(DATE($C$3,9,1),3)+12)),"") -> 11 | X26: =IF(MONTH((DATE($C$3,9,1)-WEEKDAY(DATE($C$3,9,1),3)+13))=9,DAY((DATE($C$3,9,1)-WEEKDAY(DATE($C$3,9,1),3)+13)),"") -> 12
B27: =IF(MONTH((DATE($C$3,7,1)-WEEKDAY(DATE($C$3,7,1),3)+14))=7,DAY((DATE($C$3,7,1)-WEEKDAY(DATE($C$3,7,1),3)+14)),"") -> 12 | C27: =IF(MONTH((DATE($C$3,7,1)-WEEKDAY(DATE($C$3,7,1),3)+15))=7,DAY((DATE($C$3,7,1)-WEEKDAY(DATE($C$3,7,1),3)+15)),"") -> 13 | D27: =IF(MONTH((DATE($C$3,7,1)-WEEKDAY(DATE($C$3,7,1),3)+16))=7,DAY((DATE($C$3,7,1)-WEEKDAY(DATE($C$3,7,1),3)+16)),"") -> 14 | E27: =IF(MONTH((DATE($C$3,7,1)-WEEKDAY(DATE($C$3,7,1),3)+17))=7,DAY((DATE($C$3,7,1)-WEEKDAY(DATE($C$3,7,1),3)+17)),"") -> 15 | F27: =IF(MONTH((DATE($C$3,7,1)-WEEKDAY(DATE($C$3,7,1),3)+18))=7,DAY((DATE($C$3,7,1)-WEEKDAY(DATE($C$3,7,1),3)+18)),"") -> 16 | G27: =IF(MONTH((DATE($C$3,7,1)-WEEKDAY(DATE($C$3,7,1),3)+19))=7,DAY((DATE($C$3,7,1)-WEEKDAY(DATE($C$3,7,1),3)+19)),"") -> 17 | H27: =IF(MONTH((DATE($C$3,7,1)-WEEKDAY(DATE($C$3,7,1),3)+20))=7,DAY((DATE($C$3,7,1)-WEEKDAY(DATE($C$3,7,1),3)+20)),"") -> 18 | J27: =IF(MONTH((DATE($C$3,8,1)-WEEKDAY(DATE($C$3,8,1),3)+14))=8,DAY((DATE($C$3,8,1)-WEEKDAY(DATE($C$3,8,1),3)+14)),"") -> 9 | K27: =IF(MONTH((DATE($C$3,8,1)-WEEKDAY(DATE($C$3,8,1),3)+15))=8,DAY((DATE($C$3,8,1)-WEEKDAY(DATE($C$3,8,1),3)+15)),"") -> 10 | L27: =IF(MONTH((DATE($C$3,8,1)-WEEKDAY(DATE($C$3,8,1),3)+16))=8,DAY((DATE($C$3,8,1)-WEEKDAY(DATE($C$3,8,1),3)+16)),"") -> 11 | M27: =IF(MONTH((DATE($C$3,8,1)-WEEKDAY(DATE($C$3,8,1),3)+17))=8,DAY((DATE($C$3,8,1)-WEEKDAY(DATE($C$3,8,1),3)+17)),"") -> 12 | N27: =IF(MONTH((DATE($C$3,8,1)-WEEKDAY(DATE($C$3,8,1),3)+18))=8,DAY((DATE($C$3,8,1)-WEEKDAY(DATE($C$3,8,1),3)+18)),"") -> 13 | O27: =IF(MONTH((DATE($C$3,8,1)-WEEKDAY(DATE($C$3,8,1),3)+19))=8,DAY((DATE($C$3,8,1)-WEEKDAY(DATE($C$3,8,1),3)+19)),"") -> 14 | P27: =IF(MONTH((DATE($C$3,8,1)-WEEKDAY(DATE($C$3,8,1),3)+20))=8,DAY((DATE($C$3,8,1)-WEEKDAY(DATE($C$3,8,1),3)+20)),"") -> 15 | R27: =IF(MONTH((DATE($C$3,9,1)-WEEKDAY(DATE($C$3,9,1),3)+14))=9,DAY((DATE($C$3,9,1)-WEEKDAY(DATE($C$3,9,1),3)+14)),"") -> 13 | S27: =IF(MONTH((DATE($C$3,9,1)-WEEKDAY(DATE($C$3,9,1),3)+15))=9,DAY((DATE($C$3,9,1)-WEEKDAY(DATE($C$3,9,1),3)+15)),"") -> 14 | T27: =IF(MONTH((DATE($C$3,9,1)-WEEKDAY(DATE($C$3,9,1),3)+16))=9,DAY((DATE($C$3,9,1)-WEEKDAY(DATE($C$3,9,1),3)+16)),"") -> 15 | U27: =IF(MONTH((DATE($C$3,9,1)-WEEKDAY(DATE($C$3,9,1),3)+17))=9,DAY((DATE($C$3,9,1)-WEEKDAY(DATE($C$3,9,1),3)+17)),"") -> 16 | V27: =IF(MONTH((DATE($C$3,9,1)-WEEKDAY(DATE($C$3,9,1),3)+18))=9,DAY((DATE($C$3,9,1)-WEEKDAY(DATE($C$3,9,1),3)+18)),"") -> 17 | W27: =IF(MONTH((DATE($C$3,9,1)-WEEKDAY(DATE($C$3,9,1),3)+19))=9,DAY((DATE($C$3,9,1)-WEEKDAY(DATE($C$3,9,1),3)+19)),"") -> 18 | X27: =IF(MONTH((DATE($C$3,9,1)-WEEKDAY(DATE($C$3,9,1),3)+20))=9,DAY((DATE($C$3,9,1)-WEEKDAY(DATE($C$3,9,1),3)+20)),"") -> 19
B28: =IF(MONTH((DATE($C$3,7,1)-WEEKDAY(DATE($C$3,7,1),3)+21))=7,DAY((DATE($C$3,7,1)-WEEKDAY(DATE($C$3,7,1),3)+21)),"") -> 19 | C28: =IF(MONTH((DATE($C$3,7,1)-WEEKDAY(DATE($C$3,7,1),3)+22))=7,DAY((DATE($C$3,7,1)-WEEKDAY(DATE($C$3,7,1),3)+22)),"") -> 20 | D28: =IF(MONTH((DATE($C$3,7,1)-WEEKDAY(DATE($C$3,7,1),3)+23))=7,DAY((DATE($C$3,7,1)-WEEKDAY(DATE($C$3,7,1),3)+23)),"") -> 21 | E28: =IF(MONTH((DATE($C$3,7,1)-WEEKDAY(DATE($C$3,7,1),3)+24))=7,DAY((DATE($C$3,7,1)-WEEKDAY(DATE($C$3,7,1),3)+24)),"") -> 22 | F28: =IF(MONTH((DATE($C$3,7,1)-WEEKDAY(DATE($C$3,7,1),3)+25))=7,DAY((DATE($C$3,7,1)-WEEKDAY(DATE($C$3,7,1),3)+25)),"") -> 23 | G28: =IF(MONTH((DATE($C$3,7,1)-WEEKDAY(DATE($C$3,7,1),3)+26))=7,DAY((DATE($C$3,7,1)-WEEKDAY(DATE($C$3,7,1),3)+26)),"") -> 24 | H28: =IF(MONTH((DATE($C$3,7,1)-WEEKDAY(DATE($C$3,7,1),3)+27))=7,DAY((DATE($C$3,7,1)-WEEKDAY(DATE($C$3,7,1),3)+27)),"") -> 25 | J28: =IF(MONTH((DATE($C$3,8,1)-WEEKDAY(DATE($C$3,8,1),3)+21))=8,DAY((DATE($C$3,8,1)-WEEKDAY(DATE($C$3,8,1),3)+21)),"") -> 16 | K28: =IF(MONTH((DATE($C$3,8,1)-WEEKDAY(DATE($C$3,8,1),3)+22))=8,DAY((DATE($C$3,8,1)-WEEKDAY(DATE($C$3,8,1),3)+22)),"") -> 17 | L28: =IF(MONTH((DATE($C$3,8,1)-WEEKDAY(DATE($C$3,8,1),3)+23))=8,DAY((DATE($C$3,8,1)-WEEKDAY(DATE($C$3,8,1),3)+23)),"") -> 18 | M28: =IF(MONTH((DATE($C$3,8,1)-WEEKDAY(DATE($C$3,8,1),3)+24))=8,DAY((DATE($C$3,8,1)-WEEKDAY(DATE($C$3,8,1),3)+24)),"") -> 19 | N28: =IF(MONTH((DATE($C$3,8,1)-WEEKDAY(DATE($C$3,8,1),3)+25))=8,DAY((DATE($C$3,8,1)-WEEKDAY(DATE($C$3,8,1),3)+25)),"") -> 20 | O28: =IF(MONTH((DATE($C$3,8,1)-WEEKDAY(DATE($C$3,8,1),3)+26))=8,DAY((DATE($C$3,8,1)-WEEKDAY(DATE($C$3,8,1),3)+26)),"") -> 21 | P28: =IF(MONTH((DATE($C$3,8,1)-WEEKDAY(DATE($C$3,8,1),3)+27))=8,DAY((DATE($C$3,8,1)-WEEKDAY(DATE($C$3,8,1),3)+27)),"") -> 22 | R28: =IF(MONTH((DATE($C$3,9,1)-WEEKDAY(DATE($C$3,9,1),3)+21))=9,DAY((DATE($C$3,9,1)-WEEKDAY(DATE($C$3,9,1),3)+21)),"") -> 20 | S28: =IF(MONTH((DATE($C$3,9,1)-WEEKDAY(DATE($C$3,9,1),3)+22))=9,DAY((DATE($C$3,9,1)-WEEKDAY(DATE($C$3,9,1),3)+22)),"") -> 21 | T28: =IF(MONTH((DATE($C$3,9,1)-WEEKDAY(DATE($C$3,9,1),3)+23))=9,DAY((DATE($C$3,9,1)-WEEKDAY(DATE($C$3,9,1),3)+23)),"") -> 22 | U28: =IF(MONTH((DATE($C$3,9,1)-WEEKDAY(DATE($C$3,9,1),3)+24))=9,DAY((DATE($C$3,9,1)-WEEKDAY(DATE($C$3,9,1),3)+24)),"") -> 23 | V28: =IF(MONTH((DATE($C$3,9,1)-WEEKDAY(DATE($C$3,9,1),3)+25))=9,DAY((DATE($C$3,9,1)-WEEKDAY(DATE($C$3,9,1),3)+25)),"") -> 24 | W28: =IF(MONTH((DATE($C$3,9,1)-WEEKDAY(DATE($C$3,9,1),3)+26))=9,DAY((DATE($C$3,9,1)-WEEKDAY(DATE($C$3,9,1),3)+26)),"") -> 25 | X28: =IF(MONTH((DATE($C$3,9,1)-WEEKDAY(DATE($C$3,9,1),3)+27))=9,DAY((DATE($C$3,9,1)-WEEKDAY(DATE($C$3,9,1),3)+27)),"") -> 26
B29: =IF(MONTH((DATE($C$3,7,1)-WEEKDAY(DATE($C$3,7,1),3)+28))=7,DAY((DATE($C$3,7,1)-WEEKDAY(DATE($C$3,7,1),3)+28)),"") -> 26 | C29: =IF(MONTH((DATE($C$3,7,1)-WEEKDAY(DATE($C$3,7,1),3)+29))=7,DAY((DATE($C$3,7,1)-WEEKDAY(DATE($C$3,7,1),3)+29)),"") -> 27 | D29: =IF(MONTH((DATE($C$3,7,1)-WEEKDAY(DATE($C$3,7,1),3)+30))=7,DAY((DATE($C$3,7,1)-WEEKDAY(DATE($C$3,7,1),3)+30)),"") -> 28 | E29: =IF(MONTH((DATE($C$3,7,1)-WEEKDAY(DATE($C$3,7,1),3)+31))=7,DAY((DATE($C$3,7,1)-WEEKDAY(DATE($C$3,7,1),3)+31)),"") -> 29 | F29: =IF(MONTH((DATE($C$3,7,1)-WEEKDAY(DATE($C$3,7,1),3)+32))=7,DAY((DATE($C$3,7,1)-WEEKDAY(DATE($C$3,7,1),3)+32)),"") -> 30 | G29: =IF(MONTH((DATE($C$3,7,1)-WEEKDAY(DATE($C$3,7,1),3)+33))=7,DAY((DATE($C$3,7,1)-WEEKDAY(DATE($C$3,7,1),3)+33)),"") -> 31 | H29: =IF(MONTH((DATE($C$3,7,1)-WEEKDAY(DATE($C$3,7,1),3)+34))=7,DAY((DATE($C$3,7,1)-WEEKDAY(DATE($C$3,7,1),3)+34)),"") | J29: =IF(MONTH((DATE($C$3,8,1)-WEEKDAY(DATE($C$3,8,1),3)+28))=8,DAY((DATE($C$3,8,1)-WEEKDAY(DATE($C$3,8,1),3)+28)),"") -> 23 | K29: =IF(MONTH((DATE($C$3,8,1)-WEEKDAY(DATE($C$3,8,1),3)+29))=8,DAY((DATE($C$3,8,1)-WEEKDAY(DATE($C$3,8,1),3)+29)),"") -> 24 | L29: =IF(MONTH((DATE($C$3,8,1)-WEEKDAY(DATE($C$3,8,1),3)+30))=8,DAY((DATE($C$3,8,1)-WEEKDAY(DATE($C$3,8,1),3)+30)),"") -> 25 | M29: =IF(MONTH((DATE($C$3,8,1)-WEEKDAY(DATE($C$3,8,1),3)+31))=8,DAY((DATE($C$3,8,1)-WEEKDAY(DATE($C$3,8,1),3)+31)),"") -> 26 | N29: =IF(MONTH((DATE($C$3,8,1)-WEEKDAY(DATE($C$3,8,1),3)+32))=8,DAY((DATE($C$3,8,1)-WEEKDAY(DATE($C$3,8,1),3)+32)),"") -> 27 | O29: =IF(MONTH((DATE($C$3,8,1)-WEEKDAY(DATE($C$3,8,1),3)+33))=8,DAY((DATE($C$3,8,1)-WEEKDAY(DATE($C$3,8,1),3)+33)),"") -> 28 | P29: =IF(MONTH((DATE($C$3,8,1)-WEEKDAY(DATE($C$3,8,1),3)+34))=8,DAY((DATE($C$3,8,1)-WEEKDAY(DATE($C$3,8,1),3)+34)),"") -> 29 | R29: =IF(MONTH((DATE($C$3,9,1)-WEEKDAY(DATE($C$3,9,1),3)+28))=9,DAY((DATE($C$3,9,1)-WEEKDAY(DATE($C$3,9,1),3)+28)),"") -> 27 | S29: =IF(MONTH((DATE($C$3,9,1)-WEEKDAY(DATE($C$3,9,1),3)+29))=9,DAY((DATE($C$3,9,1)-WEEKDAY(DATE($C$3,9,1),3)+29)),"") -> 28 | T29: =IF(MONTH((DATE($C$3,9,1)-WEEKDAY(DATE($C$3,9,1),3)+30))=9,DAY((DATE($C$3,9,1)-WEEKDAY(DATE($C$3,9,1),3)+30)),"") -> 29 | U29: =IF(MONTH((DATE($C$3,9,1)-WEEKDAY(DATE($C$3,9,1),3)+31))=9,DAY((DATE($C$3,9,1)-WEEKDAY(DATE($C$3,9,1),3)+31)),"") -> 30 | V29: =IF(MONTH((DATE($C$3,9,1)-WEEKDAY(DATE($C$3,9,1),3)+32))=9,DAY((DATE($C$3,9,1)-WEEKDAY(DATE($C$3,9,1),3)+32)),"") | W29: =IF(MONTH((DATE($C$3,9,1)-WEEKDAY(DATE($C$3,9,1),3)+33))=9,DAY((DATE($C$3,9,1)-WEEKDAY(DATE($C$3,9,1),3)+33)),"") | X29: =IF(MONTH((DATE($C$3,9,1)-WEEKDAY(DATE($C$3,9,1),3)+34))=9,DAY((DATE($C$3,9,1)-WEEKDAY(DATE($C$3,9,1),3)+34)),"")
B30: =IF(MONTH((DATE($C$3,7,1)-WEEKDAY(DATE($C$3,7,1),3)+35))=7,DAY((DATE($C$3,7,1)-WEEKDAY(DATE($C$3,7,1),3)+35)),"") | C30: =IF(MONTH((DATE($C$3,7,1)-WEEKDAY(DATE($C$3,7,1),3)+36))=7,DAY((DATE($C$3,7,1)-WEEKDAY(DATE($C$3,7,1),3)+36)),"") | D30: =IF(MONTH((DATE($C$3,7,1)-WEEKDAY(DATE($C$3,7,1),3)+37))=7,DAY((DATE($C$3,7,1)-WEEKDAY(DATE($C$3,7,1),3)+37)),"") | E30: =IF(MONTH((DATE($C$3,7,1)-WEEKDAY(DATE($C$3,7,1),3)+38))=7,DAY((DATE($C$3,7,1)-WEEKDAY(DATE($C$3,7,1),3)+38)),"") | F30: =IF(MONTH((DATE($C$3,7,1)-WEEKDAY(DATE($C$3,7,1),3)+39))=7,DAY((DATE($C$3,7,1)-WEEKDAY(DATE($C$3,7,1),3)+39)),"") | G30: =IF(MONTH((DATE($C$3,7,1)-WEEKDAY(DATE($C$3,7,1),3)+40))=7,DAY((DATE($C$3,7,1)-WEEKDAY(DATE($C$3,7,1),3)+40)),"") | H30: =IF(MONTH((DATE($C$3,7,1)-WEEKDAY(DATE($C$3,7,1),3)+41))=7,DAY((DATE($C$3,7,1)-WEEKDAY(DATE($C$3,7,1),3)+41)),"") | J30: =IF(MONTH((DATE($C$3,8,1)-WEEKDAY(DATE($C$3,8,1),3)+35))=8,DAY((DATE($C$3,8,1)-WEEKDAY(DATE($C$3,8,1),3)+35)),"") -> 30 | K30: =IF(MONTH((DATE($C$3,8,1)-WEEKDAY(DATE($C$3,8,1),3)+36))=8,DAY((DATE($C$3,8,1)-WEEKDAY(DATE($C$3,8,1),3)+36)),"") -> 31 | L30: =IF(MONTH((DATE($C$3,8,1)-WEEKDAY(DATE($C$3,8,1),3)+37))=8,DAY((DATE($C$3,8,1)-WEEKDAY(DATE($C$3,8,1),3)+37)),"") | M30: =IF(MONTH((DATE($C$3,8,1)-WEEKDAY(DATE($C$3,8,1),3)+38))=8,DAY((DATE($C$3,8,1)-WEEKDAY(DATE($C$3,8,1),3)+38)),"") | N30: =IF(MONTH((DATE($C$3,8,1)-WEEKDAY(DATE($C$3,8,1),3)+39))=8,DAY((DATE($C$3,8,1)-WEEKDAY(DATE($C$3,8,1),3)+39)),"") | O30: =IF(MONTH((DATE($C$3,8,1)-WEEKDAY(DATE($C$3,8,1),3)+40))=8,DAY((DATE($C$3,8,1)-WEEKDAY(DATE($C$3,8,1),3)+40)),"") | P30: =IF(MONTH((DATE($C$3,8,1)-WEEKDAY(DATE($C$3,8,1),3)+41))=8,DAY((DATE($C$3,8,1)-WEEKDAY(DATE($C$3,8,1),3)+41)),"") | R30: =IF(MONTH((DATE($C$3,9,1)-WEEKDAY(DATE($C$3,9,1),3)+35))=9,DAY((DATE($C$3,9,1)-WEEKDAY(DATE($C$3,9,1),3)+35)),"") | S30: =IF(MONTH((DATE($C$3,9,1)-WEEKDAY(DATE($C$3,9,1),3)+36))=9,DAY((DATE($C$3,9,1)-WEEKDAY(DATE($C$3,9,1),3)+36)),"") | T30: =IF(MONTH((DATE($C$3,9,1)-WEEKDAY(DATE($C$3,9,1),3)+37))=9,DAY((DATE($C$3,9,1)-WEEKDAY(DATE($C$3,9,1),3)+37)),"") | U30: =IF(MONTH((DATE($C$3,9,1)-WEEKDAY(DATE($C$3,9,1),3)+38))=9,DAY((DATE($C$3,9,1)-WEEKDAY(DATE($C$3,9,1),3)+38)),"") | V30: =IF(MONTH((DATE($C$3,9,1)-WEEKDAY(DATE($C$3,9,1),3)+39))=9,DAY((DATE($C$3,9,1)-WEEKDAY(DATE($C$3,9,1),3)+39)),"") | W30: =IF(MONTH((DATE($C$3,9,1)-WEEKDAY(DATE($C$3,9,1),3)+40))=9,DAY((DATE($C$3,9,1)-WEEKDAY(DATE($C$3,9,1),3)+40)),"") | X30: =IF(MONTH((DATE($C$3,9,1)-WEEKDAY(DATE($C$3,9,1),3)+41))=9,DAY((DATE($C$3,9,1)-WEEKDAY(DATE($C$3,9,1),3)+41)),"")
B32: OCTUBRE | J32: NOVIEMBRE | R32: DICIEMBRE
B33: L | C33: M | D33: M | E33: J | F33: V | G33: S | H33: D | J33: L | K33: M | L33: M | M33: J | N33: V | O33: S | P33: D | R33: L | S33: M | T33: M | U33: J | V33: V | W33: S | X33: D
B34: =IF(MONTH((DATE($C$3,10,1)-WEEKDAY(DATE($C$3,10,1),3)+0))=10,DAY((DATE($C$3,10,1)-WEEKDAY(DATE($C$3,10,1),3)+0)),"") | C34: =IF(MONTH((DATE($C$3,10,1)-WEEKDAY(DATE($C$3,10,1),3)+1))=10,DAY((DATE($C$3,10,1)-WEEKDAY(DATE($C$3,10,1),3)+1)),"") | D34: =IF(MONTH((DATE($C$3,10,1)-WEEKDAY(DATE($C$3,10,1),3)+2))=10,DAY((DATE($C$3,10,1)-WEEKDAY(DATE($C$3,10,1),3)+2)),"") | E34: =IF(MONTH((DATE($C$3,10,1)-WEEKDAY(DATE($C$3,10,1),3)+3))=10,DAY((DATE($C$3,10,1)-WEEKDAY(DATE($C$3,10,1),3)+3)),"") | F34: =IF(MONTH((DATE($C$3,10,1)-WEEKDAY(DATE($C$3,10,1),3)+4))=10,DAY((DATE($C$3,10,1)-WEEKDAY(DATE($C$3,10,1),3)+4)),"") -> 1 | G34: =IF(MONTH((DATE($C$3,10,1)-WEEKDAY(DATE($C$3,10,1),3)+5))=10,DAY((DATE($C$3,10,1)-WEEKDAY(DATE($C$3,10,1),3)+5)),"") -> 2 | H34: =IF(MONTH((DATE($C$3,10,1)-WEEKDAY(DATE($C$3,10,1),3)+6))=10,DAY((DATE($C$3,10,1)-WEEKDAY(DATE($C$3,10,1),3)+6)),"") -> 3 | J34: =IF(MONTH((DATE($C$3,11,1)-WEEKDAY(DATE($C$3,11,1),3)+0))=11,DAY((DATE($C$3,11,1)-WEEKDAY(DATE($C$3,11,1),3)+0)),"") -> 1 | K34: =IF(MONTH((DATE($C$3,11,1)-WEEKDAY(DATE($C$3,11,1),3)+1))=11,DAY((DATE($C$3,11,1)-WEEKDAY(DATE($C$3,11,1),3)+1)),"") -> 2 | L34: =IF(MONTH((DATE($C$3,11,1)-WEEKDAY(DATE($C$3,11,1),3)+2))=11,DAY((DATE($C$3,11,1)-WEEKDAY(DATE($C$3,11,1),3)+2)),"") -> 3 | M34: =IF(MONTH((DATE($C$3,11,1)-WEEKDAY(DATE($C$3,11,1),3)+3))=11,DAY((DATE($C$3,11,1)-WEEKDAY(DATE($C$3,11,1),3)+3)),"") -> 4 | N34: =IF(MONTH((DATE($C$3,11,1)-WEEKDAY(DATE($C$3,11,1),3)+4))=11,DAY((DATE($C$3,11,1)-WEEKDAY(DATE($C$3,11,1),3)+4)),"") -> 5 | O34: =IF(MONTH((DATE($C$3,11,1)-WEEKDAY(DATE($C$3,11,1),3)+5))=11,DAY((DATE($C$3,11,1)-WEEKDAY(DATE($C$3,11,1),3)+5)),"") -> 6 | P34: =IF(MONTH((DATE($C$3,11,1)-WEEKDAY(DATE($C$3,11,1),3)+6))=11,DAY((DATE($C$3,11,1)-WEEKDAY(DATE($C$3,11,1),3)+6)),"") -> 7 | R34: =IF(MONTH((DATE($C$3,12,1)-WEEKDAY(DATE($C$3,12,1),3)+0))=12,DAY((DATE($C$3,12,1)-WEEKDAY(DATE($C$3,12,1),3)+0)),"") | S34: =IF(MONTH((DATE($C$3,12,1)-WEEKDAY(DATE($C$3,12,1),3)+1))=12,DAY((DATE($C$3,12,1)-WEEKDAY(DATE($C$3,12,1),3)+1)),"") | T34: =IF(MONTH((DATE($C$3,12,1)-WEEKDAY(DATE($C$3,12,1),3)+2))=12,DAY((DATE($C$3,12,1)-WEEKDAY(DATE($C$3,12,1),3)+2)),"") -> 1 | U34: =IF(MONTH((DATE($C$3,12,1)-WEEKDAY(DATE($C$3,12,1),3)+3))=12,DAY((DATE($C$3,12,1)-WEEKDAY(DATE($C$3,12,1),3)+3)),"") -> 2 | V34: =IF(MONTH((DATE($C$3,12,1)-WEEKDAY(DATE($C$3,12,1),3)+4))=12,DAY((DATE($C$3,12,1)-WEEKDAY(DATE($C$3,12,1),3)+4)),"") -> 3 | W34: =IF(MONTH((DATE($C$3,12,1)-WEEKDAY(DATE($C$3,12,1),3)+5))=12,DAY((DATE($C$3,12,1)-WEEKDAY(DATE($C$3,12,1),3)+5)),"") -> 4 | X34: =IF(MONTH((DATE($C$3,12,1)-WEEKDAY(DATE($C$3,12,1),3)+6))=12,DAY((DATE($C$3,12,1)-WEEKDAY(DATE($C$3,12,1),3)+6)),"") -> 5
B35: =IF(MONTH((DATE($C$3,10,1)-WEEKDAY(DATE($C$3,10,1),3)+7))=10,DAY((DATE($C$3,10,1)-WEEKDAY(DATE($C$3,10,1),3)+7)),"") -> 4 | C35: =IF(MONTH((DATE($C$3,10,1)-WEEKDAY(DATE($C$3,10,1),3)+8))=10,DAY((DATE($C$3,10,1)-WEEKDAY(DATE($C$3,10,1),3)+8)),"") -> 5 | D35: =IF(MONTH((DATE($C$3,10,1)-WEEKDAY(DATE($C$3,10,1),3)+9))=10,DAY((DATE($C$3,10,1)-WEEKDAY(DATE($C$3,10,1),3)+9)),"") -> 6 | E35: =IF(MONTH((DATE($C$3,10,1)-WEEKDAY(DATE($C$3,10,1),3)+10))=10,DAY((DATE($C$3,10,1)-WEEKDAY(DATE($C$3,10,1),3)+10)),"") -> 7 | F35: =IF(MONTH((DATE($C$3,10,1)-WEEKDAY(DATE($C$3,10,1),3)+11))=10,DAY((DATE($C$3,10,1)-WEEKDAY(DATE($C$3,10,1),3)+11)),"") -> 8 | G35: =IF(MONTH((DATE($C$3,10,1)-WEEKDAY(DATE($C$3,10,1),3)+12))=10,DAY((DATE($C$3,10,1)-WEEKDAY(DATE($C$3,10,1),3)+12)),"") -> 9 | H35: =IF(MONTH((DATE($C$3,10,1)-WEEKDAY(DATE($C$3,10,1),3)+13))=10,DAY((DATE($C$3,10,1)-WEEKDAY(DATE($C$3,10,1),3)+13)),"") -> 10 | J35: =IF(MONTH((DATE($C$3,11,1)-WEEKDAY(DATE($C$3,11,1),3)+7))=11,DAY((DATE($C$3,11,1)-WEEKDAY(DATE($C$3,11,1),3)+7)),"") -> 8 | K35: =IF(MONTH((DATE($C$3,11,1)-WEEKDAY(DATE($C$3,11,1),3)+8))=11,DAY((DATE($C$3,11,1)-WEEKDAY(DATE($C$3,11,1),3)+8)),"") -> 9 | L35: =IF(MONTH((DATE($C$3,11,1)-WEEKDAY(DATE($C$3,11,1),3)+9))=11,DAY((DATE($C$3,11,1)-WEEKDAY(DATE($C$3,11,1),3)+9)),"") -> 10 | M35: =IF(MONTH((DATE($C$3,11,1)-WEEKDAY(DATE($C$3,11,1),3)+10))=11,DAY((DATE($C$3,11,1)-WEEKDAY(DATE($C$3,11,1),3)+10)),"") -> 11 | N35: =IF(MONTH((DATE($C$3,11,1)-WEEKDAY(DATE($C$3,11,1),3)+11))=11,DAY((DATE($C$3,11,1)-WEEKDAY(DATE($C$3,11,1),3)+11)),"") -> 12 | O35: =IF(MONTH((DATE($C$3,11,1)-WEEKDAY(DATE($C$3,11,1),3)+12))=11,DAY((DATE($C$3,11,1)-WEEKDAY(DATE($C$3,11,1),3)+12)),"") -> 13 | P35: =IF(MONTH((DATE($C$3,11,1)-WEEKDAY(DATE($C$3,11,1),3)+13))=11,DAY((DATE($C$3,11,1)-WEEKDAY(DATE($C$3,11,1),3)+13)),"") -> 14 | R35: =IF(MONTH((DATE($C$3,12,1)-WEEKDAY(DATE($C$3,12,1),3)+7))=12,DAY((DATE($C$3,12,1)-WEEKDAY(DATE($C$3,12,1),3)+7)),"") -> 6 | S35: =IF(MONTH((DATE($C$3,12,1)-WEEKDAY(DATE($C$3,12,1),3)+8))=12,DAY((DATE($C$3,12,1)-WEEKDAY(DATE($C$3,12,1),3)+8)),"") -> 7 | T35: =IF(MONTH((DATE($C$3,12,1)-WEEKDAY(DATE($C$3,12,1),3)+9))=12,DAY((DATE($C$3,12,1)-WEEKDAY(DATE($C$3,12,1),3)+9)),"") -> 8 | U35: =IF(MONTH((DATE($C$3,12,1)-WEEKDAY(DATE($C$3,12,1),3)+10))=12,DAY((DATE($C$3,12,1)-WEEKDAY(DATE($C$3,12,1),3)+10)),"") -> 9 | V35: =IF(MONTH((DATE($C$3,12,1)-WEEKDAY(DATE($C$3,12,1),3)+11))=12,DAY((DATE($C$3,12,1)-WEEKDAY(DATE($C$3,12,1),3)+11)),"") -> 10 | W35: =IF(MONTH((DATE($C$3,12,1)-WEEKDAY(DATE($C$3,12,1),3)+12))=12,DAY((DATE($C$3,12,1)-WEEKDAY(DATE($C$3,12,1),3)+12)),"") -> 11 | X35: =IF(MONTH((DATE($C$3,12,1)-WEEKDAY(DATE($C$3,12,1),3)+13))=12,DAY((DATE($C$3,12,1)-WEEKDAY(DATE($C$3,12,1),3)+13)),"") -> 12
B36: =IF(MONTH((DATE($C$3,10,1)-WEEKDAY(DATE($C$3,10,1),3)+14))=10,DAY((DATE($C$3,10,1)-WEEKDAY(DATE($C$3,10,1),3)+14)),"") -> 11 | C36: =IF(MONTH((DATE($C$3,10,1)-WEEKDAY(DATE($C$3,10,1),3)+15))=10,DAY((DATE($C$3,10,1)-WEEKDAY(DATE($C$3,10,1),3)+15)),"") -> 12 | D36: =IF(MONTH((DATE($C$3,10,1)-WEEKDAY(DATE($C$3,10,1),3)+16))=10,DAY((DATE($C$3,10,1)-WEEKDAY(DATE($C$3,10,1),3)+16)),"") -> 13 | E36: =IF(MONTH((DATE($C$3,10,1)-WEEKDAY(DATE($C$3,10,1),3)+17))=10,DAY((DATE($C$3,10,1)-WEEKDAY(DATE($C$3,10,1),3)+17)),"") -> 14 | F36: =IF(MONTH((DATE($C$3,10,1)-WEEKDAY(DATE($C$3,10,1),3)+18))=10,DAY((DATE($C$3,10,1)-WEEKDAY(DATE($C$3,10,1),3)+18)),"") -> 15 | G36: =IF(MONTH((DATE($C$3,10,1)-WEEKDAY(DATE($C$3,10,1),3)+19))=10,DAY((DATE($C$3,10,1)-WEEKDAY(DATE($C$3,10,1),3)+19)),"") -> 16 | H36: =IF(MONTH((DATE($C$3,10,1)-WEEKDAY(DATE($C$3,10,1),3)+20))=10,DAY((DATE($C$3,10,1)-WEEKDAY(DATE($C$3,10,1),3)+20)),"") -> 17 | J36: =IF(MONTH((DATE($C$3,11,1)-WEEKDAY(DATE($C$3,11,1),3)+14))=11,DAY((DATE($C$3,11,1)-WEEKDAY(DATE($C$3,11,1),3)+14)),"") -> 15 | K36: =IF(MONTH((DATE($C$3,11,1)-WEEKDAY(DATE($C$3,11,1),3)+15))=11,DAY((DATE($C$3,11,1)-WEEKDAY(DATE($C$3,11,1),3)+15)),"") -> 16 | L36: =IF(MONTH((DATE($C$3,11,1)-WEEKDAY(DATE($C$3,11,1),3)+16))=11,DAY((DATE($C$3,11,1)-WEEKDAY(DATE($C$3,11,1),3)+16)),"") -> 17 | M36: =IF(MONTH((DATE($C$3,11,1)-WEEKDAY(DATE($C$3,11,1),3)+17))=11,DAY((DATE($C$3,11,1)-WEEKDAY(DATE($C$3,11,1),3)+17)),"") -> 18 | N36: =IF(MONTH((DATE($C$3,11,1)-WEEKDAY(DATE($C$3,11,1),3)+18))=11,DAY((DATE($C$3,11,1)-WEEKDAY(DATE($C$3,11,1),3)+18)),"") -> 19 | O36: =IF(MONTH((DATE($C$3,11,1)-WEEKDAY(DATE($C$3,11,1),3)+19))=11,DAY((DATE($C$3,11,1)-WEEKDAY(DATE($C$3,11,1),3)+19)),"") -> 20 | P36: =IF(MONTH((DATE($C$3,11,1)-WEEKDAY(DATE($C$3,11,1),3)+20))=11,DAY((DATE($C$3,11,1)-WEEKDAY(DATE($C$3,11,1),3)+20)),"") -> 21 | R36: =IF(MONTH((DATE($C$3,12,1)-WEEKDAY(DATE($C$3,12,1),3)+14))=12,DAY((DATE($C$3,12,1)-WEEKDAY(DATE($C$3,12,1),3)+14)),"") -> 13 | S36: =IF(MONTH((DATE($C$3,12,1)-WEEKDAY(DATE($C$3,12,1),3)+15))=12,DAY((DATE($C$3,12,1)-WEEKDAY(DATE($C$3,12,1),3)+15)),"") -> 14 | T36: =IF(MONTH((DATE($C$3,12,1)-WEEKDAY(DATE($C$3,12,1),3)+16))=12,DAY((DATE($C$3,12,1)-WEEKDAY(DATE($C$3,12,1),3)+16)),"") -> 15 | U36: =IF(MONTH((DATE($C$3,12,1)-WEEKDAY(DATE($C$3,12,1),3)+17))=12,DAY((DATE($C$3,12,1)-WEEKDAY(DATE($C$3,12,1),3)+17)),"") -> 16 | V36: =IF(MONTH((DATE($C$3,12,1)-WEEKDAY(DATE($C$3,12,1),3)+18))=12,DAY((DATE($C$3,12,1)-WEEKDAY(DATE($C$3,12,1),3)+18)),"") -> 17 | W36: =IF(MONTH((DATE($C$3,12,1)-WEEKDAY(DATE($C$3,12,1),3)+19))=12,DAY((DATE($C$3,12,1)-WEEKDAY(DATE($C$3,12,1),3)+19)),"") -> 18 | X36: =IF(MONTH((DATE($C$3,12,1)-WEEKDAY(DATE($C$3,12,1),3)+20))=12,DAY((DATE($C$3,12,1)-WEEKDAY(DATE($C$3,12,1),3)+20)),"") -> 19
B37: =IF(MONTH((DATE($C$3,10,1)-WEEKDAY(DATE($C$3,10,1),3)+21))=10,DAY((DATE($C$3,10,1)-WEEKDAY(DATE($C$3,10,1),3)+21)),"") -> 18 | C37: =IF(MONTH((DATE($C$3,10,1)-WEEKDAY(DATE($C$3,10,1),3)+22))=10,DAY((DATE($C$3,10,1)-WEEKDAY(DATE($C$3,10,1),3)+22)),"") -> 19 | D37: =IF(MONTH((DATE($C$3,10,1)-WEEKDAY(DATE($C$3,10,1),3)+23))=10,DAY((DATE($C$3,10,1)-WEEKDAY(DATE($C$3,10,1),3)+23)),"") -> 20 | E37: =IF(MONTH((DATE($C$3,10,1)-WEEKDAY(DATE($C$3,10,1),3)+24))=10,DAY((DATE($C$3,10,1)-WEEKDAY(DATE($C$3,10,1),3)+24)),"") -> 21 | F37: =IF(MONTH((DATE($C$3,10,1)-WEEKDAY(DATE($C$3,10,1),3)+25))=10,DAY((DATE($C$3,10,1)-WEEKDAY(DATE($C$3,10,1),3)+25)),"") -> 22 | G37: =IF(MONTH((DATE($C$3,10,1)-WEEKDAY(DATE($C$3,10,1),3)+26))=10,DAY((DATE($C$3,10,1)-WEEKDAY(DATE($C$3,10,1),3)+26)),"") -> 23 | H37: =IF(MONTH((DATE($C$3,10,1)-WEEKDAY(DATE($C$3,10,1),3)+27))=10,DAY((DATE($C$3,10,1)-WEEKDAY(DATE($C$3,10,1),3)+27)),"") -> 24 | J37: =IF(MONTH((DATE($C$3,11,1)-WEEKDAY(DATE($C$3,11,1),3)+21))=11,DAY((DATE($C$3,11,1)-WEEKDAY(DATE($C$3,11,1),3)+21)),"") -> 22 | K37: =IF(MONTH((DATE($C$3,11,1)-WEEKDAY(DATE($C$3,11,1),3)+22))=11,DAY((DATE($C$3,11,1)-WEEKDAY(DATE($C$3,11,1),3)+22)),"") -> 23 | L37: =IF(MONTH((DATE($C$3,11,1)-WEEKDAY(DATE($C$3,11,1),3)+23))=11,DAY((DATE($C$3,11,1)-WEEKDAY(DATE($C$3,11,1),3)+23)),"") -> 24 | M37: =IF(MONTH((DATE($C$3,11,1)-WEEKDAY(DATE($C$3,11,1),3)+24))=11,DAY((DATE($C$3,11,1)-WEEKDAY(DATE($C$3,11,1),3)+24)),"") -> 25 | N37: =IF(MONTH((DATE($C$3,11,1)-WEEKDAY(DATE($C$3,11,1),3)+25))=11,DAY((DATE($C$3,11,1)-WEEKDAY(DATE($C$3,11,1),3)+25)),"") -> 26 | O37: =IF(MONTH((DATE($C$3,11,1)-WEEKDAY(DATE($C$3,11,1),3)+26))=11,DAY((DATE($C$3,11,1)-WEEKDAY(DATE($C$3,11,1),3)+26)),"") -> 27 | P37: =IF(MONTH((DATE($C$3,11,1)-WEEKDAY(DATE($C$3,11,1),3)+27))=11,DAY((DATE($C$3,11,1)-WEEKDAY(DATE($C$3,11,1),3)+27)),"") -> 28 | R37: =IF(MONTH((DATE($C$3,12,1)-WEEKDAY(DATE($C$3,12,1),3)+21))=12,DAY((DATE($C$3,12,1)-WEEKDAY(DATE($C$3,12,1),3)+21)),"") -> 20 | S37: =IF(MONTH((DATE($C$3,12,1)-WEEKDAY(DATE($C$3,12,1),3)+22))=12,DAY((DATE($C$3,12,1)-WEEKDAY(DATE($C$3,12,1),3)+22)),"") -> 21 | T37: =IF(MONTH((DATE($C$3,12,1)-WEEKDAY(DATE($C$3,12,1),3)+23))=12,DAY((DATE($C$3,12,1)-WEEKDAY(DATE($C$3,12,1),3)+23)),"") -> 22 | U37: =IF(MONTH((DATE($C$3,12,1)-WEEKDAY(DATE($C$3,12,1),3)+24))=12,DAY((DATE($C$3,12,1)-WEEKDAY(DATE($C$3,12,1),3)+24)),"") -> 23 | V37: =IF(MONTH((DATE($C$3,12,1)-WEEKDAY(DATE($C$3,12,1),3)+25))=12,DAY((DATE($C$3,12,1)-WEEKDAY(DATE($C$3,12,1),3)+25)),"") -> 24 | W37: =IF(MONTH((DATE($C$3,12,1)-WEEKDAY(DATE($C$3,12,1),3)+26))=12,DAY((DATE($C$3,12,1)-WEEKDAY(DATE($C$3,12,1),3)+26)),"") -> 25 | X37: =IF(MONTH((DATE($C$3,12,1)-WEEKDAY(DATE($C$3,12,1),3)+27))=12,DAY((DATE($C$3,12,1)-WEEKDAY(DATE($C$3,12,1),3)+27)),"") -> 26
