Workbook

Sheet Productos
B2: CONTROL DE INVENTARIO
B3: Registra tus productos aquí y sus entradas y salidas en la hoja Movimientos. Las existencias se calculan solas.
B4: Moneda: | C4: $ | F4: Celdas amarillas: escribe aquí tus datos. El resto se calcula solo. | J4: Valor total del inventario: | L4: =SUM(L7:L206) -> 10340
J5: Productos por reponer: | L5: =COUNTIF(M7:M206,"Reponer") -> 1
B6: Código | C6: Producto | D6: Categoría | E6: Unidad | F6: Stock inicial | G6: Entradas | H6: Salidas | I6: Stock actual | J6: Stock mínimo | K6: ="Costo unit."&" ("&$C$4&")" -> Costo unit. ($) | L6: ="Valor"&" ("&$C$4&")" -> Valor ($) | M6: Estado
B7: P001 | C7: Detergente líquido 1 galón | D7: Limpieza | E7: Unidad | F7: 20 | G7: =IF($B7="","",SUMIFS(Movimientos!$F$7:$F$1006,Movimientos!$C$7:$C$1006,$B7,Movimientos!$E$7:$E$1006,"Entrada")) -> 8 | H7: =IF($B7="","",SUMIFS(Movimientos!$F$7:$F$1006,Movimientos!$C$7:$C$1006,$B7,Movimientos!$E$7:$E$1006,"Salida")) -> 3 | I7: =IF($B7="","",N(F7)+G7-H7) -> 25 | J7: 8 | K7: 150 | L7: =IF($B7="","",I7*N(K7)) -> 3750 | M7: =IF($B7="","",IF(I7<=N(J7),"Reponer","OK")) -> OK
B8: P002 | C8: Cloro 1 galón | D8: Limpieza | E8: Unidad | F8: 15 | G8: =IF($B8="","",SUMIFS(Movimientos!$F$7:$F$1006,Movimientos!$C$7:$C$1006,$B8,Movimientos!$E$7:$E$1006,"Entrada")) -> 5 | H8: =IF($B8="","",SUMIFS(Movimientos!$F$7:$F$1006,Movimientos!$C$7:$C$1006,$B8,Movimientos!$E$7:$E$1006,"Salida")) -> 2 | I8: =IF($B8="","",N(F8)+G8-H8) -> 18 | J8: 5 | K8: 85 | L8: =IF($B8="","",I8*N(K8)) -> 1530 | M8: =IF($B8="","",IF(I8<=N(J8),"Reponer","OK")) -> OK
B9: P003 | C9: Bolsas de basura (paquete) | D9: Limpieza | E9: Paquete | F9: 30 | G9: =IF($B9="","",SUMIFS(Movimientos!$F$7:$F$1006,Movimientos!$C$7:$C$1006,$B9,Movimientos!$E$7:$E$1006,"Entrada")) -> 12 | H9: =IF($B9="","",SUMIFS(Movimientos!$F$7:$F$1006,Movimientos!$C$7:$C$1006,$B9,Movimientos!$E$7:$E$1006,"Salida")) -> 10 | I9: =IF($B9="","",N(F9)+G9-H9) -> 32 | J9: 12 | K9: 60 | L9: =IF($B9="","",I9*N(K9)) -> 1920 | M9: =IF($B9="","",IF(I9<=N(J9),"Reponer","OK")) -> OK
B10: P004 | C10: Guantes de látex (caja) | D10: Protección | E10: Caja | F10: 10 | G10: =IF($B10="","",SUMIFS(Movimientos!$F$7:$F$1006,Movimientos!$C$7:$C$1006,$B10,Movimientos!$E$7:$E$1006,"Entrada")) -> 3 | H10: =IF($B10="","",SUMIFS(Movimientos!$F$7:$F$1006,Movimientos!$C$7:$C$1006,$B10,Movimientos!$E$7:$E$1006,"Salida")) -> 2 | I10: =IF($B10="","",N(F10)+G10-H10) -> 11 | J10: 3 | K10: 220 | L10: =IF($B10="","",I10*N(K10)) -> 2420 | M10: =IF($B10="","",IF(I10<=N(J10),"Reponer","OK")) -> OK
B11: P005 | C11: Trapeador de microfibra | D11: Equipo | E11: Unidad | F11: 6 | G11: =IF($B11="","",SUMIFS(Movimientos!$F$7:$F$1006,Movimientos!$C$7:$C$1006,$B11,Movimientos!$E$7:$E$1006,"Entrada")) -> 0 | H11: =IF($B11="","",SUMIFS(Movimientos!$F$7:$F$1006,Movimientos!$C$7:$C$1006,$B11,Movimientos!$E$7:$E$1006,"Salida")) -> 2 | I11: =IF($B11="","",N(F11)+G11-H11) -> 4 | J11: 5 | K11: 180 | L11: =IF($B11="","",I11*N(K11)) -> 720 | M11: =IF($B11="","",IF(I11<=N(J11),"Reponer","OK")) -> Reponer
G12: =IF($B12="","",SUMIFS(Movimientos!$F$7:$F$1006,Movimientos!$C$7:$C$1006,$B12,Movimientos!$E$7:$E$1006,"Entrada")) | H12: =IF($B12="","",SUMIFS(Movimientos!$F$7:$F$1006,Movimientos!$C$7:$C$1006,$B12,Movimientos!$E$7:$E$1006,"Salida")) | I12: =IF($B12="","",N(F12)+G12-H12) | L12: =IF($B12="","",I12*N(K12)) | M12: =IF($B12="","",IF(I12<=N(J12),"Reponer","OK"))
G13: =IF($B13="","",SUMIFS(Movimientos!$F$7:$F$1006,Movimientos!$C$7:$C$1006,$B13,Movimientos!$E$7:$E$1006,"Entrada")) | H13: =IF($B13="","",SUMIFS(Movimientos!$F$7:$F$1006,Movimientos!$C$7:$C$1006,$B13,Movimientos!$E$7:$E$1006,"Salida")) | I13: =IF($B13="","",N(F13)+G13-H13) | L13: =IF($B13="","",I13*N(K13)) | M13: =IF($B13="","",IF(I13<=N(J13),"Reponer","OK"))
G14: =IF($B14="","",SUMIFS(Movimientos!$F$7:$F$1006,Movimientos!$C$7:$C$1006,$B14,Movimientos!$E$7:$E$1006,"Entrada")) | H14: =IF($B14="","",SUMIFS(Movimientos!$F$7:$F$1006,Movimientos!$C$7:$C$1006,$B14,Movimientos!$E$7:$E$1006,"Salida")) | I14: =IF($B14="","",N(F14)+G14-H14) | L14: =IF($B14="","",I14*N(K14)) | M14: =IF($B14="","",IF(I14<=N(J14),"Reponer","OK"))
G15: =IF($B15="","",SUMIFS(Movimientos!$F$7:$F$1006,Movimientos!$C$7:$C$1006,$B15,Movimientos!$E$7:$E$1006,"Entrada")) | H15: =IF($B15="","",SUMIFS(Movimientos!$F$7:$F$1006,Movimientos!$C$7:$C$1006,$B15,Movimientos!$E$7:$E$1006,"Salida")) | I15: =IF($B15="","",N(F15)+G15-H15) | L15: =IF($B15="","",I15*N(K15)) | M15: =IF($B15="","",IF(I15<=N(J15),"Reponer","OK"))
G16: =IF($B16="","",SUMIFS(Movimientos!$F$7:$F$1006,Movimientos!$C$7:$C$1006,$B16,Movimientos!$E$7:$E$1006,"Entrada")) | H16: =IF($B16="","",SUMIFS(Movimientos!$F$7:$F$1006,Movimientos!$C$7:$C$1006,$B16,Movimientos!$E$7:$E$1006,"Salida")) | I16: =IF($B16="","",N(F16)+G16-H16) | L16: =IF($B16="","",I16*N(K16)) | M16: =IF($B16="","",IF(I16<=N(J16),"Reponer","OK"))
G17: =IF($B17="","",SUMIFS(Movimientos!$F$7:$F$1006,Movimientos!$C$7:$C$1006,$B17,Movimientos!$E$7:$E$1006,"Entrada")) | H17: =IF($B17="","",SUMIFS(Movimientos!$F$7:$F$1006,Movimientos!$C$7:$C$1006,$B17,Movimientos!$E$7:$E$1006,"Salida")) | I17: =IF($B17="","",N(F17)+G17-H17) | L17: =IF($B17="","",I17*N(K17)) | M17: =IF($B17="","",IF(I17<=N(J17),"Reponer","OK"))
G18: =IF($B18="","",SUMIFS(Movimientos!$F$7:$F$1006,Movimientos!$C$7:$C$1006,$B18,Movimientos!$E$7:$E$1006,"Entrada")) | H18: =IF($B18="","",SUMIFS(Movimientos!$F$7:$F$1006,Movimientos!$C$7:$C$1006,$B18,Movimientos!$E$7:$E$1006,"Salida")) | I18: =IF($B18="","",N(F18)+G18-H18) | L18: =IF($B18="","",I18*N(K18)) | M18: =IF($B18="","",IF(I18<=N(J18),"Reponer","OK"))
G19: =IF($B19="","",SUMIFS(Movimientos!$F$7:$F$1006,Movimientos!$C$7:$C$1006,$B19,Movimientos!$E$7:$E$1006,"Entrada")) | H19: =IF($B19="","",SUMIFS(Movimientos!$F$7:$F$1006,Movimientos!$C$7:$C$1006,$B19,Movimientos!$E$7:$E$1006,"Salida")) | I19: =IF($B19="","",N(F19)+G19-H19) | L19: =IF($B19="","",I19*N(K19)) | M19: =IF($B19="","",IF(I19<=N(J19),"Reponer","OK"))
G20: =IF($B20="","",SUMIFS(Movimientos!$F$7:$F$1006,Movimientos!$C$7:$C$1006,$B20,Movimientos!$E$7:$E$1006,"Entrada")) | H20: =IF($B20="","",SUMIFS(Movimientos!$F$7:$F$1006,Movimientos!$C$7:$C$1006,$B20,Movimientos!$E$7:$E$1006,"Salida")) | I20: =IF($B20="","",N(F20)+G20-H20) | L20: =IF($B20="","",I20*N(K20)) | M20: =IF($B20="","",IF(I20<=N(J20),"Reponer","OK"))
G21: =IF($B21="","",SUMIFS(Movimientos!$F$7:$F$1006,Movimientos!$C$7:$C$1006,$B21,Movimientos!$E$7:$E$1006,"Entrada")) | H21: =IF($B21="","",SUMIFS(Movimientos!$F$7:$F$1006,Movimientos!$C$7:$C$1006,$B21,Movimientos!$E$7:$E$1006,"Salida")) | I21: =IF($B21="","",N(F21)+G21-H21) | L21: =IF($B21="","",I21*N(K21)) | M21: =IF($B21="","",IF(I21<=N(J21),"Reponer","OK"))
G22: =IF($B22="","",SUMIFS(Movimientos!$F$7:$F$1006,Movimientos!$C$7:$C$1006,$B22,Movimientos!$E$7:$E$1006,"Entrada")) | H22: =IF($B22="","",SUMIFS(Movimientos!$F$7:$F$1006,Movimientos!$C$7:$C$1006,$B22,Movimientos!$E$7:$E$1006,"Salida")) | I22: =IF($B22="","",N(F22)+G22-H22) | L22: =IF($B22="","",I22*N(K22)) | M22: =IF($B22="","",IF(I22<=N(J22),"Reponer","OK"))
G23: =IF($B23="","",SUMIFS(Movimientos!$F$7:$F$1006,Movimientos!$C$7:$C$1006,$B23,Movimientos!$E$7:$E$1006,"Entrada")) | H23: =IF($B23="","",SUMIFS(Movimientos!$F$7:$F$1006,Movimientos!$C$7:$C$1006,$B23,Movimientos!$E$7:$E$1006,"Salida")) | I23: =IF($B23="","",N(F23)+G23-H23) | L23: =IF($B23="","",I23*N(K23)) | M23: =IF($B23="","",IF(I23<=N(J23),"Reponer","OK"))
... G206: =IF($B206="","",SUMIFS(Movimientos!$F$7:$F$1006,Movimientos!$C$7:$C$1006,$B206,Movimientos!$E$7:$E$1006,"Entrada")) | H206: =IF($B206="","",SUMIFS(Movimientos!$F$7:$F$1006,Movimientos!$C$7:$C$1006,$B206,Movimientos!$E$7:$E$1006,"Salida")) | I206: =IF($B206="","",N(F206)+G206-H206) | L206: =IF($B206="","",I206*N(K206)) | M206: =IF($B206="","",IF(I206<=N(J206),"Reponer","OK"))
B208: © 2026 Plantilla Lista · plantillalista.com · Uso libre personal y de negocio. Prohibida su venta o redistribución.

Sheet Movimientos
B2: MOVIMIENTOS
B3: Anota cada entrada (compra) o salida (venta o uso). Elige el código de la lista.
C4: Celdas amarillas: escribe aquí tus datos. El resto se calcula solo.
B6: Fecha | C6: Código | D6: Producto | E6: Tipo | F6: Cantidad | G6: Nota
B7: 46391 | C7: P001 | D7: =IF(C7="","",IFERROR(INDEX(Productos!$C$7:$C$206,MATCH(C7,Productos!$B$7:$B$206,0)),"Código no existe")) -> Detergente líquido 1 galón | E7: Entrada | F7: 8 | G7: Compra a proveedor
B8: 46393 | C8: P003 | D8: =IF(C8="","",IFERROR(INDEX(Productos!$C$7:$C$206,MATCH(C8,Productos!$B$7:$B$206,0)),"Código no existe")) -> Bolsas de basura (paquete) | E8: Entrada | F8: 12 | G8: Compra a proveedor
B9: 46395 | C9: P001 | D9: =IF(C9="","",IFERROR(INDEX(Productos!$C$7:$C$206,MATCH(C9,Productos!$B$7:$B$206,0)),"Código no existe")) -> Detergente líquido 1 galón | E9: Salida | F9: 3 | G9: Uso en servicio
B10: 46396 | C10: P005 | D10: =IF(C10="","",IFERROR(INDEX(Productos!$C$7:$C$206,MATCH(C10,Productos!$B$7:$B$206,0)),"Código no existe")) -> Trapeador de microfibra | E10: Salida | F10: 2 | G10: Entregado a cuadrilla
B11: 46399 | C11: P003 | D11: =IF(C11="","",IFERROR(INDEX(Productos!$C$7:$C$206,MATCH(C11,Productos!$B$7:$B$206,0)),"Código no existe")) -> Bolsas de basura (paquete) | E11: Salida | F11: 10 | G11: Uso en servicio
B12: 46400 | C12: P002 | D12: =IF(C12="","",IFERROR(INDEX(Productos!$C$7:$C$206,MATCH(C12,Productos!$B$7:$B$206,0)),"Código no existe")) -> Cloro 1 galón | E12: Entrada | F12: 5 | G12: Compra a proveedor
B13: 46401 | C13: P002 | D13: =IF(C13="","",IFERROR(INDEX(Productos!$C$7:$C$206,MATCH(C13,Productos!$B$7:$B$206,0)),"Código no existe")) -> Cloro 1 galón | E13: Salida | F13: 2 | G13: Uso en servicio
B14: 46402 | C14: P004 | D14: =IF(C14="","",IFERROR(INDEX(Productos!$C$7:$C$206,MATCH(C14,Productos!$B$7:$B$206,0)),"Código no existe")) -> Guantes de látex (caja) | E14: Entrada | F14: 3
B15: 46403 | C15: P004 | D15: =IF(C15="","",IFERROR(INDEX(Productos!$C$7:$C$206,MATCH(C15,Productos!$B$7:$B$206,0)),"Código no existe")) -> Guantes de látex (caja) | E15: Salida | F15: 2
D16: =IF(C16="","",IFERROR(INDEX(Productos!$C$7:$C$206,MATCH(C16,Productos!$B$7:$B$206,0)),"Código no existe"))
D17: =IF(C17="","",IFERROR(INDEX(Productos!$C$7:$C$206,MATCH(C17,Productos!$B$7:$B$206,0)),"Código no existe"))
D18: =IF(C18="","",IFERROR(INDEX(Productos!$C$7:$C$206,MATCH(C18,Productos!$B$7:$B$206,0)),"Código no existe"))
D19: =IF(C19="","",IFERROR(INDEX(Productos!$C$7:$C$206,MATCH(C19,Productos!$B$7:$B$206,0)),"Código no existe"))
D20: =IF(C20="","",IFERROR(INDEX(Productos!$C$7:$C$206,MATCH(C20,Productos!$B$7:$B$206,0)),"Código no existe"))
D21: =IF(C21="","",IFERROR(INDEX(Productos!$C$7:$C$206,MATCH(C21,Productos!$B$7:$B$206,0)),"Código no existe"))
D22: =IF(C22="","",IFERROR(INDEX(Productos!$C$7:$C$206,MATCH(C22,Productos!$B$7:$B$206,0)),"Código no existe"))
D23: =IF(C23="","",IFERROR(INDEX(Productos!$C$7:$C$206,MATCH(C23,Productos!$B$7:$B$206,0)),"Código no existe"))
D24: =IF(C24="","",IFERROR(INDEX(Productos!$C$7:$C$206,MATCH(C24,Productos!$B$7:$B$206,0)),"Código no existe"))
D25: =IF(C25="","",IFERROR(INDEX(Productos!$C$7:$C$206,MATCH(C25,Productos!$B$7:$B$206,0)),"Código no existe"))
D26: =IF(C26="","",IFERROR(INDEX(Productos!$C$7:$C$206,MATCH(C26,Productos!$B$7:$B$206,0)),"Código no existe"))
D27: =IF(C27="","",IFERROR(INDEX(Productos!$C$7:$C$206,MATCH(C27,Productos!$B$7:$B$206,0)),"Código no existe"))
... D1006: =IF(C1006="","",IFERROR(INDEX(Productos!$C$7:$C$206,MATCH(C1006,Productos!$B$7:$B$206,0)),"Código no existe"))
B1008: © 2026 Plantilla Lista · plantillalista.com · Uso libre personal y de negocio. Prohibida su venta o redistribución.

Sheet Cómo usar
B2: Cómo usar: Control de inventario
B4: 1 | C4: En la hoja Productos escribe el símbolo de tu moneda y registra cada producto con un código único (P001, P002…), su stock inicial, el stock mínimo y el costo.
B5: 2 | C5: Cada vez que compres o vendas, ve a Movimientos: anota la fecha, elige el código de la lista, el tipo (Entrada o Salida) y la cantidad.
B6: 3 | C6: Las entradas, salidas y el stock actual se calculan solos en la hoja Productos.
B7: 4 | C7: Cuando el stock llega al mínimo, el Estado cambia a «Reponer» en rojo. Arriba ves cuántos productos hay que reponer y el valor total del inventario.
B8: 5 | C8: Borra los productos y movimientos de ejemplo antes de empezar.
C10: • Tienes espacio para 200 productos y 1,000 movimientos. Usa los filtros del encabezado para buscar rápido.
C11: • Funciona en Excel, Google Sheets y LibreOffice.
C13: Más plantillas gratis en plantillalista.com
C14: © 2026 Plantilla Lista · plantillalista.com · Uso libre personal y de negocio. Prohibida su venta o redistribución.
